FILENAME: O4611326.NWS.1074812.tif
QUADRANGLE_NAME: CLEVELAND MOUNTAIN
QUADRANT: NW
WEST_LONGITUDE: -113 52 30.00000
EAST_LONGITUDE: -113 48 45.00000
NORTH_LATITUDE: 46 37 30.00000
SOUTH_LATITUDE: 46 33 45.00000
PRODUCTION_DATE: 2000 4 14
RASTER_ORDER: LEFT_RIGHT/TOP_BOTTOM
BAND_ORGANIZATION: SINGLE FILE
BAND_CONTENT: BLACK&WHITE
BAND_CONTENT: UNDEFINED
BAND_CONTENT: UNDEFINED
BITS_PER_PIXEL: 8
SAMPLES_AND_LINES: 5713 7726
HORIZONTAL_DATUM: NAD83
HORIZONTAL_COORDINATE_SYSTEM: UTM
COORDINATE_ZONE: 12
HORIZONTAL_UNITS: METERS
HORIZONTAL_RESOLUTION: 1.00000
SECONDARY_HORIZONTAL_DATUM: NAD27
XY_ORIGIN: 279280.00000 5167809.00000
SECONDARY_XY_ORIGIN: 279345.07600 5167596.61000
NATION: US
NATION: "SCIENCE
STATE: MT
NW_QUAD_CORNER_XY: 279907.03700 5167508.49100
NE_QUAD_CORNER_XY: 284691.44900 5167335.74200
SE_QUAD_CORNERY_XY: 284443.59700 5160391.29700
SW_QUAD_CORNER_XY: 279653.66800 5160564.06700
SECONDARY_NW_QUAD_XY: 279900.30600 5167290.26500
SECONDARY_NE_QUAD_XY: 284684.86500 5167117.51100
SECONDARY_SE_QUAD_XY: 284437.01400 5160173.10000
SECONDARY_SW_QUAD_XY: 279646.93900 5160345.87500
RMSE_XY: 2.50000
IMAGE_SOURCE: BLACK AND WHITE FILM
SOURCE_IMAGE_ID: NAPP 8393 014
SOURCE_IMAGE_DATE: 1995 08 19
SOURCE_IMAGE_ID: NAPP 8389 066
SOURCE_IMAGE_DATE: 1995 07 31
SOURCE_IMAGE_ID: NAPP 8393 015
SOURCE_IMAGE_DATE: 1995 08 19
SOURCE_IMAGE_ID: NAPP 8393 013
SOURCE_IMAGE_DATE: 1995 08 19
SOURCE_DEM_DATE: 1989 00 00
AGENCY: WESTERN MAPPING CENTER (WMC)
PRODUCER: UNDEFINED
PRODUCTION_SYSTEM: GIS/MAGIC
COMPRESSION: UNDEFINED
STANDARD_VERSION: 1996 12
METADATA_DATE: 2000 05 25
DATA_FILE_SIZE: 44144351
BYTE_COUNT: 5713
