FILENAME: O4611328.NES.1074859.tif
QUADRANGLE_NAME: SPINK POINT
QUADRANT: NE
WEST_LONGITUDE: -113 33 45.00000
EAST_LONGITUDE: -113 30 0.00000
NORTH_LATITUDE: 46 37 30.00000
SOUTH_LATITUDE: 46 33 45.00000
PRODUCTION_DATE: 2000 5 3
RASTER_ORDER: LEFT_RIGHT/TOP_BOTTOM
BAND_ORGANIZATION: SINGLE FILE
BAND_CONTENT: BLACK&WHITE
BAND_CONTENT: UNDEFINED
BAND_CONTENT: UNDEFINED
BITS_PER_PIXEL: 8
SAMPLES_AND_LINES: 5684 7707
HORIZONTAL_DATUM: NAD83
HORIZONTAL_COORDINATE_SYSTEM: UTM
COORDINATE_ZONE: 12
HORIZONTAL_UNITS: METERS
HORIZONTAL_RESOLUTION: 1.00000
SECONDARY_HORIZONTAL_DATUM: NAD27
XY_ORIGIN: 303231.00000 5166983.00000
SECONDARY_XY_ORIGIN: 303295.70300 5166770.62100
NATION: US
NATION: "SCIENCE
STATE: MT
NW_QUAD_CORNER_XY: 303829.23900 5166682.76600
NE_QUAD_CORNER_XY: 308613.72000 5166529.02400
SE_QUAD_CORNERY_XY: 308393.44100 5159584.48200
SW_QUAD_CORNER_XY: 303603.44600 5159738.24200
SECONDARY_NW_QUAD_XY: 303823.24000 5166464.51400
SECONDARY_NE_QUAD_XY: 308607.86800 5166310.76800
SECONDARY_SE_QUAD_XY: 308387.59000 5159366.26000
SECONDARY_SW_QUAD_XY: 303597.44900 5159520.02500
RMSE_XY: 2.00000
IMAGE_SOURCE: BLACK AND WHITE FILM
SOURCE_IMAGE_ID: NAPP 8391 224
SOURCE_IMAGE_DATE: 1995 08 01
SOURCE_IMAGE_ID: NAPP 8391 223
SOURCE_IMAGE_DATE: 1995 08 01
SOURCE_DEM_DATE: 1989 00 00
AGENCY: WESTERN MAPPING CENTER (WMC)
PRODUCER: UNDEFINED
PRODUCTION_SYSTEM: GIS/MAGIC
COMPRESSION: UNDEFINED
STANDARD_VERSION: 1996 12
METADATA_DATE: 2000 05 25
DATA_FILE_SIZE: 43812272
BYTE_COUNT: 5684
