FILENAME: O4611330.SWS.1077015.tif
QUADRANGLE_NAME: NIRLING HILL
QUADRANT: SW
WEST_LONGITUDE: -113 22 30.00000
EAST_LONGITUDE: -113 18 45.00000
NORTH_LATITUDE: 46 33 45.00000
SOUTH_LATITUDE: 46 30 0.00000
PRODUCTION_DATE: 2000 5 1
RASTER_ORDER: LEFT_RIGHT/TOP_BOTTOM
BAND_ORGANIZATION: SINGLE FILE
BAND_CONTENT: BLACK&WHITE
BAND_CONTENT: UNDEFINED
BAND_CONTENT: UNDEFINED
BITS_PER_PIXEL: 8
SAMPLES_AND_LINES: 5672 7696
HORIZONTAL_DATUM: NAD83
HORIZONTAL_COORDINATE_SYSTEM: UTM
COORDINATE_ZONE: 12
HORIZONTAL_UNITS: METERS
HORIZONTAL_RESOLUTION: 1.00000
SECONDARY_HORIZONTAL_DATUM: NAD27
XY_ORIGIN: 317393.00000 5159589.00000
SECONDARY_XY_ORIGIN: 317457.31500 5159376.78100
NATION: US
NATION: "SCIENCE
STATE: MT
NW_QUAD_CORNER_XY: 317973.46700 5159288.36500
NE_QUAD_CORNER_XY: 322763.49800 5159146.00700
SE_QUAD_CORNERY_XY: 322559.96900 5152201.47600
SW_QUAD_CORNER_XY: 317764.43200 5152343.85100
SECONDARY_NW_QUAD_XY: 317967.90900 5159070.13400
SECONDARY_NE_QUAD_XY: 322758.08600 5158927.77200
SECONDARY_SE_QUAD_XY: 322554.55800 5151983.27600
SECONDARY_SW_QUAD_XY: 317758.87400 5152125.65400
RMSE_XY: 1.90000
IMAGE_SOURCE: BLACK AND WHITE FILM
SOURCE_IMAGE_ID: NAPP 8390 049
SOURCE_IMAGE_DATE: 1995 07 31
SOURCE_IMAGE_ID: NAPP 8390 048
SOURCE_IMAGE_DATE: 1995 07 31
SOURCE_IMAGE_ID: NAPP 8390 050
SOURCE_IMAGE_DATE: 1995 07 31
SOURCE_DEM_DATE: 1984 00 00
AGENCY: WESTERN MAPPING CENTER (WMC)
PRODUCER: UNDEFINED
PRODUCTION_SYSTEM: GIS/MAGIC
COMPRESSION: UNDEFINED
STANDARD_VERSION: 1996 12
METADATA_DATE: 2000 05 30
DATA_FILE_SIZE: 43657384
BYTE_COUNT: 5672
