FILENAME: O4611330.NWS.1077013.tif
QUADRANGLE_NAME: NIRLING HILL
QUADRANT: NW
WEST_LONGITUDE: -113 22 30.00000
EAST_LONGITUDE: -113 18 45.00000
NORTH_LATITUDE: 46 37 30.00000
SOUTH_LATITUDE: 46 33 45.00000
PRODUCTION_DATE: 2000 5 1
RASTER_ORDER: LEFT_RIGHT/TOP_BOTTOM
BAND_ORGANIZATION: SINGLE FILE
BAND_CONTENT: BLACK&WHITE
BAND_CONTENT: UNDEFINED
BAND_CONTENT: UNDEFINED
BITS_PER_PIXEL: 8
SAMPLES_AND_LINES: 5667 7696
HORIZONTAL_DATUM: NAD83
HORIZONTAL_COORDINATE_SYSTEM: UTM
COORDINATE_ZONE: 12
HORIZONTAL_UNITS: METERS
HORIZONTAL_RESOLUTION: 1.00000
SECONDARY_HORIZONTAL_DATUM: NAD27
XY_ORIGIN: 317602.00000 5166533.00000
SECONDARY_XY_ORIGIN: 317666.32100 5166320.62900
NATION: US
NATION: "SCIENCE
STATE: MT
NW_QUAD_CORNER_XY: 318182.72100 5166232.94300
NE_QUAD_CORNER_XY: 322967.23900 5166090.60200
SE_QUAD_CORNERY_XY: 322763.49800 5159146.00700
SW_QUAD_CORNER_XY: 317973.46700 5159288.36500
SECONDARY_NW_QUAD_XY: 318177.16100 5166014.67800
SECONDARY_NE_QUAD_XY: 322961.82600 5165872.33200
SECONDARY_SE_QUAD_XY: 322758.08600 5158927.77200
SECONDARY_SW_QUAD_XY: 317967.90900 5159070.13400
RMSE_XY: 1.50000
IMAGE_SOURCE: BLACK AND WHITE FILM
SOURCE_IMAGE_ID: NAPP 8390 051
SOURCE_IMAGE_DATE: 1995 07 31
SOURCE_IMAGE_ID: NAPP 8390 019
SOURCE_IMAGE_DATE: 1995 07 31
SOURCE_IMAGE_ID: NAPP 8390 050
SOURCE_IMAGE_DATE: 1995 07 31
SOURCE_IMAGE_ID: NAPP 8391 172
SOURCE_IMAGE_DATE: 1995 08 01
SOURCE_DEM_DATE: 1984 00 00
AGENCY: WESTERN MAPPING CENTER (WMC)
PRODUCER: UNDEFINED
PRODUCTION_SYSTEM: GIS/MAGIC
COMPRESSION: UNDEFINED
STANDARD_VERSION: 1996 12
METADATA_DATE: 2000 05 30
DATA_FILE_SIZE: 43618899
BYTE_COUNT: 5667
