FILENAME: O4611331.SWS.1077059.tif
QUADRANGLE_NAME: HALL
QUADRANT: SW
WEST_LONGITUDE: -113 15 0.00000
EAST_LONGITUDE: -113 11 15.00000
NORTH_LATITUDE: 46 33 45.00000
SOUTH_LATITUDE: 46 30 0.00000
PRODUCTION_DATE: 2000 5 1
RASTER_ORDER: LEFT_RIGHT/TOP_BOTTOM
BAND_ORGANIZATION: SINGLE FILE
BAND_CONTENT: BLACK&WHITE
BAND_CONTENT: UNDEFINED
BAND_CONTENT: UNDEFINED
BITS_PER_PIXEL: 8
SAMPLES_AND_LINES: 5660 7689
HORIZONTAL_DATUM: NAD83
HORIZONTAL_COORDINATE_SYSTEM: UTM
COORDINATE_ZONE: 12
HORIZONTAL_UNITS: METERS
HORIZONTAL_RESOLUTION: 1.00000
SECONDARY_HORIZONTAL_DATUM: NAD27
XY_ORIGIN: 326985.00000 5159308.00000
SECONDARY_XY_ORIGIN: 327049.02500 5159095.78300
NATION: US
NATION: "SCIENCE
STATE: MT
NW_QUAD_CORNER_XY: 327553.54000 5159007.44900
NE_QUAD_CORNER_XY: 332343.59300 5158872.69100
SE_QUAD_CORNERY_XY: 332151.07600 5151928.12900
SW_QUAD_CORNER_XY: 327355.51800 5152062.90300
SECONDARY_NW_QUAD_XY: 327548.27400 5158789.20900
SECONDARY_NE_QUAD_XY: 332338.47400 5158654.44700
SECONDARY_SE_QUAD_XY: 332145.95800 5151709.92000
SECONDARY_SW_QUAD_XY: 327350.25300 5151844.69700
RMSE_XY: 2.40000
IMAGE_SOURCE: BLACK AND WHITE FILM
SOURCE_IMAGE_ID: NAPP 8393 175
SOURCE_IMAGE_DATE: 1995 08 19
SOURCE_IMAGE_ID: NAPP 8398 173
SOURCE_IMAGE_DATE: 1995 08 28
SOURCE_DEM_DATE: 1988 00 00
AGENCY: WESTERN MAPPING CENTER (WMC)
PRODUCER: UNDEFINED
PRODUCTION_SYSTEM: GIS/MAGIC
COMPRESSION: UNDEFINED
STANDARD_VERSION: 1996 12
METADATA_DATE: 2000 05 30
DATA_FILE_SIZE: 43525400
BYTE_COUNT: 5660
