FILENAME: O4611335.SWS.1074842.tif
QUADRANGLE_NAME: QUIGG PEAK
QUADRANT: SW
WEST_LONGITUDE: -113 45 0.00000
EAST_LONGITUDE: -113 41 15.00000
NORTH_LATITUDE: 46 26 15.00000
SOUTH_LATITUDE: 46 22 30.00000
PRODUCTION_DATE: 2000 4 25
RASTER_ORDER: LEFT_RIGHT/TOP_BOTTOM
BAND_ORGANIZATION: SINGLE FILE
BAND_CONTENT: BLACK&WHITE
BAND_CONTENT: UNDEFINED
BAND_CONTENT: UNDEFINED
BITS_PER_PIXEL: 8
SAMPLES_AND_LINES: 5717 7719
HORIZONTAL_DATUM: NAD83
HORIZONTAL_COORDINATE_SYSTEM: UTM
COORDINATE_ZONE: 12
HORIZONTAL_UNITS: METERS
HORIZONTAL_RESOLUTION: 1.00000
SECONDARY_HORIZONTAL_DATUM: NAD27
XY_ORIGIN: 288135.00000 5146634.00000
SECONDARY_XY_ORIGIN: 288199.88600 5146421.95700
NATION: US
NATION: "SCIENCE
STATE: MT
NW_QUAD_CORNER_XY: 288749.62200 5146333.57600
NE_QUAD_CORNER_XY: 293550.59100 5146168.37400
SE_QUAD_CORNERY_XY: 293314.51000 5139224.06700
SW_QUAD_CORNER_XY: 288508.04300 5139389.28600
SECONDARY_NW_QUAD_XY: 288743.18800 5146115.44300
SECONDARY_NE_QUAD_XY: 293544.30300 5145950.23600
SECONDARY_SE_QUAD_XY: 293308.22300 5139005.96600
SECONDARY_SW_QUAD_XY: 288501.61000 5139171.19000
RMSE_XY: 2.90000
IMAGE_SOURCE: BLACK AND WHITE FILM
SOURCE_IMAGE_ID: NAPP 8389 132
SOURCE_IMAGE_DATE: 1995 07 31
SOURCE_IMAGE_ID: NAPP 8389 131
SOURCE_IMAGE_DATE: 1995 07 31
SOURCE_IMAGE_ID: NAPP 8389 133
SOURCE_IMAGE_DATE: 1995 07 31
SOURCE_IMAGE_ID: NAPP 8393 123
SOURCE_IMAGE_DATE: 1995 08 19
SOURCE_DEM_DATE: 1975 00 00
AGENCY: WESTERN MAPPING CENTER (WMC)
PRODUCER: UNDEFINED
PRODUCTION_SYSTEM: GIS/MAGIC
COMPRESSION: UNDEFINED
STANDARD_VERSION: 1996 12
METADATA_DATE: 2000 05 25
DATA_FILE_SIZE: 44135240
BYTE_COUNT: 5717
