FILENAME: O4611339.NWS.1077033.tif
QUADRANGLE_NAME: MAXVILLE
QUADRANT: NW
WEST_LONGITUDE: -113 15 0.00000
EAST_LONGITUDE: -113 11 15.00000
NORTH_LATITUDE: 46 30 0.00000
SOUTH_LATITUDE: 46 26 15.00000
PRODUCTION_DATE: 2000 5 1
RASTER_ORDER: LEFT_RIGHT/TOP_BOTTOM
BAND_ORGANIZATION: SINGLE FILE
BAND_CONTENT: BLACK&WHITE
BAND_CONTENT: UNDEFINED
BAND_CONTENT: UNDEFINED
BITS_PER_PIXEL: 8
SAMPLES_AND_LINES: 5666 7688
HORIZONTAL_DATUM: NAD83
HORIZONTAL_COORDINATE_SYSTEM: UTM
COORDINATE_ZONE: 12
HORIZONTAL_UNITS: METERS
HORIZONTAL_RESOLUTION: 1.00000
SECONDARY_HORIZONTAL_DATUM: NAD27
XY_ORIGIN: 326787.00000 5152363.00000
SECONDARY_XY_ORIGIN: 326851.02100 5152150.94400
NATION: US
NATION: "SCIENCE
STATE: MT
NW_QUAD_CORNER_XY: 327355.51800 5152062.90300
NE_QUAD_CORNER_XY: 332151.07600 5151928.12900
SE_QUAD_CORNERY_XY: 331958.76000 5144983.63200
SW_QUAD_CORNER_XY: 327157.70200 5145118.42000
SECONDARY_NW_QUAD_XY: 327350.25300 5151844.69700
SECONDARY_NE_QUAD_XY: 332145.95800 5151709.92000
SECONDARY_SE_QUAD_XY: 331953.64300 5144765.45800
SECONDARY_SW_QUAD_XY: 327152.43800 5144900.25100
RMSE_XY: 2.00000
IMAGE_SOURCE: BLACK AND WHITE FILM
SOURCE_IMAGE_ID: NAPP 8393 177
SOURCE_IMAGE_DATE: 1995 08 19
SOURCE_IMAGE_ID: NAPP 8391 168
SOURCE_IMAGE_DATE: 1995 08 01
SOURCE_IMAGE_ID: NAPP 8393 178
SOURCE_IMAGE_DATE: 1995 08 19
SOURCE_DEM_DATE: 1997 00 00
AGENCY: WESTERN MAPPING CENTER (WMC)
PRODUCER: UNDEFINED
PRODUCTION_SYSTEM: GIS/MAGIC
COMPRESSION: UNDEFINED
STANDARD_VERSION: 1996 12
METADATA_DATE: 2000 05 30
DATA_FILE_SIZE: 43565874
BYTE_COUNT: 5666
