FILENAME: O4611339.NES.1077032.tif
QUADRANGLE_NAME: MAXVILLE
QUADRANT: NE
WEST_LONGITUDE: -113 11 15.00000
EAST_LONGITUDE: -113 7 30.00000
NORTH_LATITUDE: 46 30 0.00000
SOUTH_LATITUDE: 46 26 15.00000
PRODUCTION_DATE: 2000 5 1
RASTER_ORDER: LEFT_RIGHT/TOP_BOTTOM
BAND_ORGANIZATION: SINGLE FILE
BAND_CONTENT: BLACK&WHITE
BAND_CONTENT: UNDEFINED
BAND_CONTENT: UNDEFINED
BITS_PER_PIXEL: 8
SAMPLES_AND_LINES: 5660 7685
HORIZONTAL_DATUM: NAD83
HORIZONTAL_COORDINATE_SYSTEM: UTM
COORDINATE_ZONE: 12
HORIZONTAL_UNITS: METERS
HORIZONTAL_RESOLUTION: 1.00000
SECONDARY_HORIZONTAL_DATUM: NAD27
XY_ORIGIN: 331588.00000 5152229.00000
SECONDARY_XY_ORIGIN: 331651.88000 5152016.97200
NATION: US
NATION: "SCIENCE
STATE: MT
NW_QUAD_CORNER_XY: 332151.07600 5151928.12900
NE_QUAD_CORNER_XY: 336946.64600 5151797.15500
SE_QUAD_CORNERY_XY: 336759.82900 5144852.64300
SW_QUAD_CORNER_XY: 331958.76000 5144983.63200
SECONDARY_NW_QUAD_XY: 332145.95800 5151709.92000
SECONDARY_NE_QUAD_XY: 336941.67300 5151578.94200
SECONDARY_SE_QUAD_XY: 336754.85700 5144634.46600
SECONDARY_SW_QUAD_XY: 331953.64300 5144765.45800
RMSE_XY: 2.70000
IMAGE_SOURCE: BLACK AND WHITE FILM
SOURCE_IMAGE_ID: NAPP 8393 289
SOURCE_IMAGE_DATE: 1995 08 19
SOURCE_IMAGE_ID: NAPP 8393 288
SOURCE_IMAGE_DATE: 1995 08 19
SOURCE_DEM_DATE: 1997 00 00
AGENCY: WESTERN MAPPING CENTER (WMC)
PRODUCER: UNDEFINED
PRODUCTION_SYSTEM: GIS/MAGIC
COMPRESSION: UNDEFINED
STANDARD_VERSION: 1996 12
METADATA_DATE: 2000 05 30
DATA_FILE_SIZE: 43502760
BYTE_COUNT: 5660
