FILENAME: O4611342.NWS.1074792.tif
QUADRANGLE_NAME: BURNT FORK LAKE
QUADRANT: NW
WEST_LONGITUDE: -113 52 30.00000
EAST_LONGITUDE: -113 48 45.00000
NORTH_LATITUDE: 46 22 30.00000
SOUTH_LATITUDE: 46 18 45.00000
PRODUCTION_DATE: 2000 4 14
RASTER_ORDER: LEFT_RIGHT/TOP_BOTTOM
BAND_ORGANIZATION: SINGLE FILE
BAND_CONTENT: BLACK&WHITE
BAND_CONTENT: UNDEFINED
BAND_CONTENT: UNDEFINED
BITS_PER_PIXEL: 8
SAMPLES_AND_LINES: 5733 7727
HORIZONTAL_DATUM: NAD83
HORIZONTAL_COORDINATE_SYSTEM: UTM
COORDINATE_ZONE: 12
HORIZONTAL_UNITS: METERS
HORIZONTAL_RESOLUTION: 1.00000
SECONDARY_HORIZONTAL_DATUM: NAD27
XY_ORIGIN: 278270.00000 5140032.00000
SECONDARY_XY_ORIGIN: 278334.78200 5139819.95100
NATION: US
NATION: "SCIENCE
STATE: MT
NW_QUAD_CORNER_XY: 278895.14500 5139731.13700
NE_QUAD_CORNER_XY: 283701.58800 5139558.31000
SE_QUAD_CORNERY_XY: 283454.76800 5132614.09600
SW_QUAD_CORNER_XY: 278642.83200 5132786.94100
SECONDARY_NW_QUAD_XY: 278888.41900 5139513.05100
SECONDARY_NE_QUAD_XY: 283695.00800 5139340.21900
SECONDARY_SE_QUAD_XY: 283448.19100 5132396.04200
SECONDARY_SW_QUAD_XY: 278636.10800 5132568.89200
RMSE_XY: 2.40000
IMAGE_SOURCE: BLACK AND WHITE FILM
SOURCE_IMAGE_ID: NAPP 8393 022
SOURCE_IMAGE_DATE: 1995 08 19
SOURCE_IMAGE_ID: NAPP 8393 023
SOURCE_IMAGE_DATE: 1995 08 19
SOURCE_IMAGE_ID: NAPP 8393 021
SOURCE_IMAGE_DATE: 1995 08 19
SOURCE_DEM_DATE: 1965 00 00
AGENCY: WESTERN MAPPING CENTER (WMC)
PRODUCER: UNDEFINED
PRODUCTION_SYSTEM: GIS/MAGIC
COMPRESSION: UNDEFINED
STANDARD_VERSION: 1996 12
METADATA_DATE: 2000 05 25
DATA_FILE_SIZE: 44304624
BYTE_COUNT: 5733
