FILENAME: O4611345.SWS.1074870.tif
QUADRANGLE_NAME: ANTELOPE CREEK
QUADRANT: SW
WEST_LONGITUDE: -113 30 0.00000
EAST_LONGITUDE: -113 26 15.00000
NORTH_LATITUDE: 46 18 45.00000
SOUTH_LATITUDE: 46 15 0.00000
PRODUCTION_DATE: 2000 4 27
RASTER_ORDER: LEFT_RIGHT/TOP_BOTTOM
BAND_ORGANIZATION: SINGLE FILE
BAND_CONTENT: BLACK&WHITE
BAND_CONTENT: UNDEFINED
BAND_CONTENT: UNDEFINED
BITS_PER_PIXEL: 8
SAMPLES_AND_LINES: 5704 7703
HORIZONTAL_DATUM: NAD83
HORIZONTAL_COORDINATE_SYSTEM: UTM
COORDINATE_ZONE: 12
HORIZONTAL_UNITS: METERS
HORIZONTAL_RESOLUTION: 1.00000
SECONDARY_HORIZONTAL_DATUM: NAD27
XY_ORIGIN: 306924.00000 5132107.00000
SECONDARY_XY_ORIGIN: 306988.35000 5131895.17300
NATION: US
NATION: "SCIENCE
STATE: MT
NW_QUAD_CORNER_XY: 307514.62100 5131806.93200
NE_QUAD_CORNER_XY: 312326.62300 5131656.90800
SE_QUAD_CORNERY_XY: 312112.97800 5124712.66000
SW_QUAD_CORNER_XY: 307295.49100 5124862.69800
SECONDARY_NW_QUAD_XY: 307508.77400 5131588.85300
SECONDARY_NE_QUAD_XY: 312320.92300 5131438.82500
SECONDARY_SE_QUAD_XY: 312107.27900 5124494.61600
SECONDARY_SW_QUAD_XY: 307289.64500 5124644.65800
RMSE_XY: 2.00000
IMAGE_SOURCE: BLACK AND WHITE FILM
SOURCE_IMAGE_ID: NAPP 8390 088
SOURCE_IMAGE_DATE: 1995 07 31
SOURCE_IMAGE_ID: NAPP 8391 235
SOURCE_IMAGE_DATE: 1995 08 01
SOURCE_IMAGE_ID: NAPP 8391 233
SOURCE_IMAGE_DATE: 1995 08 01
SOURCE_IMAGE_ID: NAPP 8390 089
SOURCE_IMAGE_DATE: 1995 07 31
SOURCE_IMAGE_ID: NAPP 8390 087
SOURCE_IMAGE_DATE: 1995 07 31
SOURCE_DEM_DATE: 1998 00 00
AGENCY: WESTERN MAPPING CENTER (WMC)
PRODUCER: UNDEFINED
PRODUCTION_SYSTEM: GIS/MAGIC
COMPRESSION: UNDEFINED
STANDARD_VERSION: 1996 12
METADATA_DATE: 2000 05 25
DATA_FILE_SIZE: 43943616
BYTE_COUNT: 5704
