FILENAME: O4611354.SWS.1077007.tif
QUADRANGLE_NAME: GEORGETOWN LAKE
QUADRANT: SW
WEST_LONGITUDE: -113 22 30.00000
EAST_LONGITUDE: -113 18 45.00000
NORTH_LATITUDE: 46 11 15.00000
SOUTH_LATITUDE: 46 7 30.00000
PRODUCTION_DATE: 2000 4 28
RASTER_ORDER: LEFT_RIGHT/TOP_BOTTOM
BAND_ORGANIZATION: SINGLE FILE
BAND_CONTENT: BLACK&WHITE
BAND_CONTENT: UNDEFINED
BAND_CONTENT: UNDEFINED
BITS_PER_PIXEL: 8
SAMPLES_AND_LINES: 5703 7696
HORIZONTAL_DATUM: NAD83
HORIZONTAL_COORDINATE_SYSTEM: UTM
COORDINATE_ZONE: 12
HORIZONTAL_UNITS: METERS
HORIZONTAL_RESOLUTION: 1.00000
SECONDARY_HORIZONTAL_DATUM: NAD27
XY_ORIGIN: 316144.00000 5117923.00000
SECONDARY_XY_ORIGIN: 316207.97600 5117711.33500
NATION: US
NATION: "SCIENCE
STATE: MT
NW_QUAD_CORNER_XY: 316722.53300 5117622.22700
NE_QUAD_CORNER_XY: 321545.51700 5117479.78100
SE_QUAD_CORNERY_XY: 321343.26600 5110535.63300
SW_QUAD_CORNER_XY: 316514.81000 5110678.09100
SECONDARY_NW_QUAD_XY: 316716.98100 5117404.21600
SECONDARY_NE_QUAD_XY: 321540.11100 5117261.76600
SECONDARY_SE_QUAD_XY: 321337.86100 5110317.65800
SECONDARY_SW_QUAD_XY: 316509.25900 5110460.12100
RMSE_XY: 1.30000
IMAGE_SOURCE: BLACK AND WHITE FILM
SOURCE_IMAGE_ID: NAPP 8390 037
SOURCE_IMAGE_DATE: 1995 07 31
SOURCE_IMAGE_ID: NAPP 8404 096
SOURCE_IMAGE_DATE: 1995 09 12
SOURCE_IMAGE_ID: NAPP 8390 038
SOURCE_IMAGE_DATE: 1995 07 31
SOURCE_IMAGE_ID: NAPP 8404 095
SOURCE_IMAGE_DATE: 1995 09 12
SOURCE_DEM_DATE: 1988 00 00
AGENCY: WESTERN MAPPING CENTER (WMC)
PRODUCER: UNDEFINED
PRODUCTION_SYSTEM: GIS/MAGIC
COMPRESSION: UNDEFINED
STANDARD_VERSION: 1996 12
METADATA_DATE: 2000 05 30
DATA_FILE_SIZE: 43895991
BYTE_COUNT: 5703
