FILENAME: O4611354.NES.1077004.tif
QUADRANGLE_NAME: GEORGETOWN LAKE
QUADRANT: NE
WEST_LONGITUDE: -113 18 45.00000
EAST_LONGITUDE: -113 15 0.00000
NORTH_LATITUDE: 46 15 0.00000
SOUTH_LATITUDE: 46 11 15.00000
PRODUCTION_DATE: 2000 4 28
RASTER_ORDER: LEFT_RIGHT/TOP_BOTTOM
BAND_ORGANIZATION: SINGLE FILE
BAND_CONTENT: BLACK&WHITE
BAND_CONTENT: UNDEFINED
BAND_CONTENT: UNDEFINED
BITS_PER_PIXEL: 8
SAMPLES_AND_LINES: 5692 7692
HORIZONTAL_DATUM: NAD83
HORIZONTAL_COORDINATE_SYSTEM: UTM
COORDINATE_ZONE: 12
HORIZONTAL_UNITS: METERS
HORIZONTAL_RESOLUTION: 1.00000
SECONDARY_HORIZONTAL_DATUM: NAD27
XY_ORIGIN: 321175.00000 5124724.00000
SECONDARY_XY_ORIGIN: 321238.87400 5124512.27300
NATION: US
NATION: "SCIENCE
STATE: MT
NW_QUAD_CORNER_XY: 321747.98100 5124423.99200
NE_QUAD_CORNER_XY: 326565.49600 5124285.36100
SE_QUAD_CORNERY_XY: 326368.50900 5117341.13700
SW_QUAD_CORNER_XY: 321545.51700 5117479.78100
SECONDARY_NW_QUAD_XY: 321742.57400 5124205.93800
SECONDARY_NE_QUAD_XY: 326560.23500 5124067.30300
SECONDARY_SE_QUAD_XY: 326363.25000 5117123.11800
SECONDARY_SW_QUAD_XY: 321540.11100 5117261.76600
RMSE_XY: 1.80000
IMAGE_SOURCE: BLACK AND WHITE FILM
SOURCE_IMAGE_ID: NAPP 8391 161
SOURCE_IMAGE_DATE: 1995 08 01
SOURCE_IMAGE_ID: NAPP 8391 160
SOURCE_IMAGE_DATE: 1995 08 01
SOURCE_IMAGE_ID: NAPP 8391 162
SOURCE_IMAGE_DATE: 1995 08 01
SOURCE_DEM_DATE: 1988 00 00
AGENCY: WESTERN MAPPING CENTER (WMC)
PRODUCER: UNDEFINED
PRODUCTION_SYSTEM: GIS/MAGIC
COMPRESSION: UNDEFINED
STANDARD_VERSION: 1996 12
METADATA_DATE: 2000 05 30
DATA_FILE_SIZE: 43788556
BYTE_COUNT: 5692
