FILENAME: O4611355.SES.1077045.tif
QUADRANGLE_NAME: SILVER LAKE
QUADRANT: SE
WEST_LONGITUDE: -113 11 15.00000
EAST_LONGITUDE: -113 7 30.00000
NORTH_LATITUDE: 46 11 15.00000
SOUTH_LATITUDE: 46 7 30.00000
PRODUCTION_DATE: 2000 4 28
RASTER_ORDER: LEFT_RIGHT/TOP_BOTTOM
BAND_ORGANIZATION: SINGLE FILE
BAND_CONTENT: BLACK&WHITE
BAND_CONTENT: UNDEFINED
BAND_CONTENT: UNDEFINED
BITS_PER_PIXEL: 8
SAMPLES_AND_LINES: 5686 7685
HORIZONTAL_DATUM: NAD83
HORIZONTAL_COORDINATE_SYSTEM: UTM
COORDINATE_ZONE: 12
HORIZONTAL_UNITS: METERS
HORIZONTAL_RESOLUTION: 1.00000
SECONDARY_HORIZONTAL_DATUM: NAD27
XY_ORIGIN: 330630.00000 5117507.00000
SECONDARY_XY_ORIGIN: 330693.61600 5117295.37000
NATION: US
NATION: "SCIENCE
STATE: MT
NW_QUAD_CORNER_XY: 331191.51000 5117206.29600
NE_QUAD_CORNER_XY: 336014.52000 5117075.25600
SE_QUAD_CORNERY_XY: 335828.68300 5110131.07400
SW_QUAD_CORNER_XY: 331000.20300 5110262.12500
SECONDARY_NW_QUAD_XY: 331186.39700 5116988.27300
SECONDARY_NE_QUAD_XY: 336009.55200 5116857.22900
SECONDARY_SE_QUAD_XY: 335823.71600 5109913.08700
SECONDARY_SW_QUAD_XY: 330995.09000 5110044.14100
RMSE_XY: 2.00000
IMAGE_SOURCE: BLACK AND WHITE FILM
SOURCE_IMAGE_ID: NAPP 8393 279
SOURCE_IMAGE_DATE: 1995 08 19
SOURCE_IMAGE_ID: NAPP 8393 278
SOURCE_IMAGE_DATE: 1995 08 19
SOURCE_DEM_DATE: 1971 00 00
AGENCY: WESTERN MAPPING CENTER (WMC)
PRODUCER: UNDEFINED
PRODUCTION_SYSTEM: GIS/MAGIC
COMPRESSION: UNDEFINED
STANDARD_VERSION: 1996 12
METADATA_DATE: 2000 05 30
DATA_FILE_SIZE: 43702596
BYTE_COUNT: 5686
