FILENAME: O4611357.NES.1076852.tif
QUADRANGLE_NAME: BALD TOP MOUNTAIN
QUADRANT: NE
WEST_LONGITUDE: -113 56 15.00000
EAST_LONGITUDE: -113 52 30.00000
NORTH_LATITUDE: 46 7 30.00000
SOUTH_LATITUDE: 46 3 45.00000
PRODUCTION_DATE: 2000 4 18
RASTER_ORDER: LEFT_RIGHT/TOP_BOTTOM
BAND_ORGANIZATION: SINGLE FILE
BAND_CONTENT: BLACK&WHITE
BAND_CONTENT: UNDEFINED
BAND_CONTENT: UNDEFINED
BITS_PER_PIXEL: 8
SAMPLES_AND_LINES: 5759 7730
HORIZONTAL_DATUM: NAD83
HORIZONTAL_COORDINATE_SYSTEM: UTM
COORDINATE_ZONE: 12
HORIZONTAL_UNITS: METERS
HORIZONTAL_RESOLUTION: 1.00000
SECONDARY_HORIZONTAL_DATUM: NAD27
XY_ORIGIN: 272430.00000 5112432.00000
SECONDARY_XY_ORIGIN: 272494.38600 5112220.17800
NATION: US
NATION: "SCIENCE
STATE: MT
NW_QUAD_CORNER_XY: 273059.11300 5112131.39500
NE_QUAD_CORNER_XY: 277887.48500 5111954.69600
SE_QUAD_CORNERY_XY: 277636.23300 5105010.72900
SW_QUAD_CORNER_XY: 272802.39100 5105187.44200
SECONDARY_NW_QUAD_XY: 273052.24700 5111913.46800
SECONDARY_NE_QUAD_XY: 277880.76500 5111736.76400
SECONDARY_SE_QUAD_XY: 277629.51500 5104792.83800
SECONDARY_SW_QUAD_XY: 272795.52600 5104969.55600
RMSE_XY: 2.30000
IMAGE_SOURCE: BLACK AND WHITE FILM
SOURCE_IMAGE_ID: NAPP 8389 083
SOURCE_IMAGE_DATE: 1995 07 31
SOURCE_IMAGE_ID: NAPP 8389 084
SOURCE_IMAGE_DATE: 1995 07 31
SOURCE_IMAGE_ID: NAPP 8389 082
SOURCE_IMAGE_DATE: 1995 07 31
SOURCE_DEM_DATE: 1997 00 00
AGENCY: WESTERN MAPPING CENTER (WMC)
PRODUCER: UNDEFINED
PRODUCTION_SYSTEM: GIS/MAGIC
COMPRESSION: UNDEFINED
STANDARD_VERSION: 1996 12
METADATA_DATE: 2000 05 29
DATA_FILE_SIZE: 44522829
BYTE_COUNT: 5759
