FILENAME: O4611360.SES.1074853.tif
QUADRANGLE_NAME: MOOSE LAKE
QUADRANT: SE
WEST_LONGITUDE: -113 33 45.00000
EAST_LONGITUDE: -113 30 0.00000
NORTH_LATITUDE: 46 3 45.00000
SOUTH_LATITUDE: 46 0 0.00000
PRODUCTION_DATE: 2000 4 14
RASTER_ORDER: LEFT_RIGHT/TOP_BOTTOM
BAND_ORGANIZATION: SINGLE FILE
BAND_CONTENT: BLACK&WHITE
BAND_CONTENT: UNDEFINED
BAND_CONTENT: UNDEFINED
BITS_PER_PIXEL: 8
SAMPLES_AND_LINES: 5731 7708
HORIZONTAL_DATUM: NAD83
HORIZONTAL_COORDINATE_SYSTEM: UTM
COORDINATE_ZONE: 12
HORIZONTAL_UNITS: METERS
HORIZONTAL_RESOLUTION: 1.00000
SECONDARY_HORIZONTAL_DATUM: NAD27
XY_ORIGIN: 301210.00000 5104485.00000
SECONDARY_XY_ORIGIN: 301274.17200 5104273.41500
NATION: US
NATION: "SCIENCE
STATE: MT
NW_QUAD_CORNER_XY: 301805.58900 5104184.25100
NE_QUAD_CORNER_XY: 306639.48700 5104030.37000
SE_QUAD_CORNERY_XY: 306421.28100 5097086.38400
SW_QUAD_CORNER_XY: 301581.92100 5097240.27700
SECONDARY_NW_QUAD_XY: 301799.60100 5103966.33400
SECONDARY_NE_QUAD_XY: 306633.64500 5103812.44900
SECONDARY_SE_QUAD_XY: 306415.44000 5096868.50400
SECONDARY_SW_QUAD_XY: 301575.93500 5097022.40200
RMSE_XY: 2.80000
IMAGE_SOURCE: BLACK AND WHITE FILM
SOURCE_IMAGE_ID: NAPP 8391 242
SOURCE_IMAGE_DATE: 1995 08 01
SOURCE_DEM_DATE: 1997 00 00
AGENCY: WESTERN MAPPING CENTER (WMC)
PRODUCER: UNDEFINED
PRODUCTION_SYSTEM: GIS/MAGIC
COMPRESSION: UNDEFINED
STANDARD_VERSION: 1996 12
METADATA_DATE: 2000 05 25
DATA_FILE_SIZE: 44180279
BYTE_COUNT: 5731
