FILENAME: O4611361.SES.1074877.tif
QUADRANGLE_NAME: CARPP RIDGE
QUADRANT: SE
WEST_LONGITUDE: -113 26 15.00000
EAST_LONGITUDE: -113 22 30.00000
NORTH_LATITUDE: 46 3 45.00000
SOUTH_LATITUDE: 46 0 0.00000
PRODUCTION_DATE: 2000 4 17
RASTER_ORDER: LEFT_RIGHT/TOP_BOTTOM
BAND_ORGANIZATION: SINGLE FILE
BAND_CONTENT: BLACK&WHITE
BAND_CONTENT: UNDEFINED
BAND_CONTENT: UNDEFINED
BITS_PER_PIXEL: 8
SAMPLES_AND_LINES: 5720 7700
HORIZONTAL_DATUM: NAD83
HORIZONTAL_COORDINATE_SYSTEM: UTM
COORDINATE_ZONE: 12
HORIZONTAL_UNITS: METERS
HORIZONTAL_RESOLUTION: 1.00000
SECONDARY_HORIZONTAL_DATUM: NAD27
XY_ORIGIN: 310889.00000 5104181.00000
SECONDARY_XY_ORIGIN: 310953.01700 5103969.45400
NATION: US
NATION: "SCIENCE
STATE: MT
NW_QUAD_CORNER_XY: 311473.39300 5103880.29300
NE_QUAD_CORNER_XY: 316307.30700 5103734.01900
SE_QUAD_CORNERY_XY: 316100.02400 5096790.01100
SW_QUAD_CORNER_XY: 311260.64900 5096936.29500
SECONDARY_NW_QUAD_XY: 311467.69700 5103662.36700
SECONDARY_NE_QUAD_XY: 316301.75800 5103516.08900
SECONDARY_SE_QUAD_XY: 316094.47600 5096572.12200
SECONDARY_SW_QUAD_XY: 311254.95400 5096718.41100
RMSE_XY: 4.00000
IMAGE_SOURCE: BLACK AND WHITE FILM
SOURCE_IMAGE_ID: NAPP 8404 110
SOURCE_IMAGE_DATE: 1995 09 12
SOURCE_IMAGE_ID: NAPP 8404 118
SOURCE_IMAGE_DATE: 1995 09 12
SOURCE_IMAGE_ID: NAPP 8404 109
SOURCE_IMAGE_DATE: 1995 09 12
SOURCE_IMAGE_ID: NAPP 8404 100
SOURCE_IMAGE_DATE: 1995 09 12
SOURCE_IMAGE_ID: NAPP 8404 098
SOURCE_IMAGE_DATE: 1995 09 12
SOURCE_DEM_DATE: 1997 00 00
AGENCY: WESTERN MAPPING CENTER (WMC)
PRODUCER: UNDEFINED
PRODUCTION_SYSTEM: GIS/MAGIC
COMPRESSION: UNDEFINED
STANDARD_VERSION: 1996 12
METADATA_DATE: 2000 05 25
DATA_FILE_SIZE: 44049720
BYTE_COUNT: 5720
