FILENAME: O4611362.SWS.1074894.tif
QUADRANGLE_NAME: STORM LAKE
QUADRANT: SW
WEST_LONGITUDE: -113 22 30.00000
EAST_LONGITUDE: -113 18 45.00000
NORTH_LATITUDE: 46 3 45.00000
SOUTH_LATITUDE: 46 0 0.00000
PRODUCTION_DATE: 2000 4 20
RASTER_ORDER: LEFT_RIGHT/TOP_BOTTOM
BAND_ORGANIZATION: SINGLE FILE
BAND_CONTENT: BLACK&WHITE
BAND_CONTENT: UNDEFINED
BAND_CONTENT: UNDEFINED
BITS_PER_PIXEL: 8
SAMPLES_AND_LINES: 5714 7696
HORIZONTAL_DATUM: NAD83
HORIZONTAL_COORDINATE_SYSTEM: UTM
COORDINATE_ZONE: 12
HORIZONTAL_UNITS: METERS
HORIZONTAL_RESOLUTION: 1.00000
SECONDARY_HORIZONTAL_DATUM: NAD27
XY_ORIGIN: 315729.00000 5104035.00000
SECONDARY_XY_ORIGIN: 315792.92100 5103823.47000
NATION: US
NATION: "SCIENCE
STATE: MT
NW_QUAD_CORNER_XY: 316307.30700 5103734.01900
NE_QUAD_CORNER_XY: 321141.23000 5103591.55000
SE_QUAD_CORNERY_XY: 320939.40700 5096647.53000
SW_QUAD_CORNER_XY: 316100.02400 5096790.01100
SECONDARY_NW_QUAD_XY: 316301.75800 5103516.08900
SECONDARY_NE_QUAD_XY: 321135.82600 5103373.61500
SECONDARY_SE_QUAD_XY: 320934.00500 5096429.63700
SECONDARY_SW_QUAD_XY: 316094.47600 5096572.12200
RMSE_XY: 2.00000
IMAGE_SOURCE: BLACK AND WHITE FILM
SOURCE_IMAGE_ID: NAPP 8404 099
SOURCE_IMAGE_DATE: 1995 09 12
SOURCE_IMAGE_ID: NAPP 8404 100
SOURCE_IMAGE_DATE: 1995 09 12
SOURCE_IMAGE_ID: NAPP 8404 098
SOURCE_IMAGE_DATE: 1995 09 12
SOURCE_IMAGE_ID: NAPP 8404 092
SOURCE_IMAGE_DATE: 1995 09 12
SOURCE_DEM_DATE: 1997 00 00
AGENCY: WESTERN MAPPING CENTER (WMC)
PRODUCER: UNDEFINED
PRODUCTION_SYSTEM: GIS/MAGIC
COMPRESSION: UNDEFINED
STANDARD_VERSION: 1996 12
METADATA_DATE: 2000 05 25
DATA_FILE_SIZE: 43980658
BYTE_COUNT: 5714
