FILENAME: O4611362.NWS.1074892.tif
QUADRANGLE_NAME: STORM LAKE
QUADRANT: NW
WEST_LONGITUDE: -113 22 30.00000
EAST_LONGITUDE: -113 18 45.00000
NORTH_LATITUDE: 46 7 30.00000
SOUTH_LATITUDE: 46 3 45.00000
PRODUCTION_DATE: 2000 4 20
RASTER_ORDER: LEFT_RIGHT/TOP_BOTTOM
BAND_ORGANIZATION: SINGLE FILE
BAND_CONTENT: BLACK&WHITE
BAND_CONTENT: UNDEFINED
BAND_CONTENT: UNDEFINED
BITS_PER_PIXEL: 8
SAMPLES_AND_LINES: 5709 7696
HORIZONTAL_DATUM: NAD83
HORIZONTAL_COORDINATE_SYSTEM: UTM
COORDINATE_ZONE: 12
HORIZONTAL_UNITS: METERS
HORIZONTAL_RESOLUTION: 1.00000
SECONDARY_HORIZONTAL_DATUM: NAD27
XY_ORIGIN: 315936.00000 5110979.00000
SECONDARY_XY_ORIGIN: 315999.94900 5110767.40200
NATION: US
NATION: "SCIENCE
STATE: MT
NW_QUAD_CORNER_XY: 316514.81000 5110678.09100
NE_QUAD_CORNER_XY: 321343.26600 5110535.63300
SE_QUAD_CORNERY_XY: 321141.23000 5103591.55000
SW_QUAD_CORNER_XY: 316307.30700 5103734.01900
SECONDARY_NW_QUAD_XY: 316509.25900 5110460.12100
SECONDARY_NE_QUAD_XY: 321337.86100 5110317.65800
SECONDARY_SE_QUAD_XY: 321135.82600 5103373.61500
SECONDARY_SW_QUAD_XY: 316301.75800 5103516.08900
RMSE_XY: 2.80000
IMAGE_SOURCE: BLACK AND WHITE FILM
SOURCE_IMAGE_ID: NAPP 8404 097
SOURCE_IMAGE_DATE: 1995 09 12
SOURCE_IMAGE_ID: NAPP 8404 098
SOURCE_IMAGE_DATE: 1995 09 12
SOURCE_IMAGE_ID: NAPP 8404 096
SOURCE_IMAGE_DATE: 1995 09 12
SOURCE_IMAGE_ID: NAPP 8404 093
SOURCE_IMAGE_DATE: 1995 09 12
SOURCE_DEM_DATE: 1997 00 00
AGENCY: WESTERN MAPPING CENTER (WMC)
PRODUCER: UNDEFINED
PRODUCTION_SYSTEM: GIS/MAGIC
COMPRESSION: UNDEFINED
STANDARD_VERSION: 1996 12
METADATA_DATE: 2000 05 25
DATA_FILE_SIZE: 43942173
BYTE_COUNT: 5709
