FILENAME: O4611364.NWS.1077074.tif
QUADRANGLE_NAME: MOUNT HAGGIN
QUADRANT: NW
WEST_LONGITUDE: -113 7 30.00000
EAST_LONGITUDE: -113 3 45.00000
NORTH_LATITUDE: 46 7 30.00000
SOUTH_LATITUDE: 46 3 45.00000
PRODUCTION_DATE: 2000 4 18
RASTER_ORDER: LEFT_RIGHT/TOP_BOTTOM
BAND_ORGANIZATION: SINGLE FILE
BAND_CONTENT: BLACK&WHITE
BAND_CONTENT: UNDEFINED
BAND_CONTENT: UNDEFINED
BITS_PER_PIXEL: 8
SAMPLES_AND_LINES: 5686 7681
HORIZONTAL_DATUM: NAD83
HORIZONTAL_COORDINATE_SYSTEM: UTM
COORDINATE_ZONE: 12
HORIZONTAL_UNITS: METERS
HORIZONTAL_RESOLUTION: 1.00000
SECONDARY_HORIZONTAL_DATUM: NAD27
XY_ORIGIN: 335273.00000 5110432.00000
SECONDARY_XY_ORIGIN: 335336.51700 5110220.47500
NATION: US
NATION: "SCIENCE
STATE: MT
NW_QUAD_CORNER_XY: 335828.68300 5110131.07400
NE_QUAD_CORNER_XY: 340657.17000 5110003.82500
SE_QUAD_CORNERY_XY: 340476.99400 5103059.69800
SW_QUAD_CORNER_XY: 335643.04200 5103186.95700
SECONDARY_NW_QUAD_XY: 335823.71600 5109913.08700
SECONDARY_NE_QUAD_XY: 340652.35000 5109785.83400
SECONDARY_SE_QUAD_XY: 340472.17500 5102841.74700
SECONDARY_SW_QUAD_XY: 335638.07700 5102969.01100
RMSE_XY: 1.70000
IMAGE_SOURCE: BLACK AND WHITE FILM
SOURCE_IMAGE_ID: NAPP 8402 006
SOURCE_IMAGE_DATE: 1995 09 02
SOURCE_IMAGE_ID: NAPP 8402 007
SOURCE_IMAGE_DATE: 1995 09 02
SOURCE_IMAGE_ID: NAPP 8402 005
SOURCE_IMAGE_DATE: 1995 09 02
SOURCE_IMAGE_ID: NAPP 8402 004
SOURCE_IMAGE_DATE: 1995 09 02
SOURCE_DEM_DATE: 1971 00 00
AGENCY: WESTERN MAPPING CENTER (WMC)
PRODUCER: UNDEFINED
PRODUCTION_SYSTEM: GIS/MAGIC
COMPRESSION: UNDEFINED
STANDARD_VERSION: 1996 12
METADATA_DATE: 2000 05 30
DATA_FILE_SIZE: 43679852
BYTE_COUNT: 5686
