FILENAME: O4611202.NWS.949893.tif
QUADRANGLE_NAME: MOOSE CREEK
QUADRANT: NW
WEST_LONGITUDE: -112 52 30.00000
EAST_LONGITUDE: -112 48 45.00000
NORTH_LATITUDE: 47 0 0.00000
SOUTH_LATITUDE: 46 56 15.00000
PRODUCTION_DATE: 1998 12 22
RASTER_ORDER: LEFT_RIGHT/TOP_BOTTOM
BAND_ORGANIZATION: SINGLE FILE
BAND_CONTENT: BLACK&WHITE
BAND_CONTENT: UNDEFINED
BAND_CONTENT: UNDEFINED
BITS_PER_PIXEL: 8
SAMPLES_AND_LINES: 5610 7710
HORIZONTAL_DATUM: NAD83
HORIZONTAL_COORDINATE_SYSTEM: UTM
COORDINATE_ZONE: 12
HORIZONTAL_UNITS: METERS
HORIZONTAL_RESOLUTION: 1.00000
SECONDARY_HORIZONTAL_DATUM: NAD27
XY_ORIGIN: 356910.00000 5207190.00000
SECONDARY_XY_ORIGIN: 356972.80300 5206976.56700
NATION: US
STATE: MT
NW_QUAD_CORNER_XY: 357453.78700 5206870.22000
NE_QUAD_CORNER_XY: 362205.21700 5206758.35800
SE_QUAD_CORNERY_XY: 362044.56400 5199813.23200
SW_QUAD_CORNER_XY: 357287.59100 5199925.11100
SECONDARY_NW_QUAD_XY: 357449.39400 5206651.73800
SECONDARY_NE_QUAD_XY: 362200.97000 5206539.87300
SECONDARY_SE_QUAD_XY: 362040.31800 5199594.77600
SECONDARY_SW_QUAD_XY: 357283.19900 5199706.65800
RMSE_XY: 2.77000
IMAGE_SOURCE: BLACK AND WHITE FILM
SOURCE_IMAGE_ID: NAPP 9485 84
SOURCE_IMAGE_DATE: 1995 08 20
SOURCE_DEM_DATE: 1997 00 00
AGENCY: WESTERN MAPPING CENTER (WMC)
PRODUCER: ANALYTICAL SURVEYS INC.
PRODUCTION_SYSTEM: ORBIT OR_RECTIFY V.5.2
COMPRESSION: UNDEFINED
STANDARD_VERSION: 1996 12
METADATA_DATE: 1999 01 05
DATA_FILE_SIZE: 43258710
BYTE_COUNT: 5610
