FILENAME: O4611204.NWS.965189.tif
QUADRANGLE_NAME: SWEDE GULCH
QUADRANT: NW
WEST_LONGITUDE: -112 37 30.00000
EAST_LONGITUDE: -112 33 45.00000
NORTH_LATITUDE: 47 0 0.00000
SOUTH_LATITUDE: 46 56 15.00000
PRODUCTION_DATE: 1998 12 23
RASTER_ORDER: LEFT_RIGHT/TOP_BOTTOM
BAND_ORGANIZATION: SINGLE FILE
BAND_CONTENT: BLACK&WHITE
BAND_CONTENT: UNDEFINED
BAND_CONTENT: UNDEFINED
BITS_PER_PIXEL: 8
SAMPLES_AND_LINES: 5610 7680
HORIZONTAL_DATUM: NAD83
HORIZONTAL_COORDINATE_SYSTEM: UTM
COORDINATE_ZONE: 12
HORIZONTAL_UNITS: METERS
HORIZONTAL_RESOLUTION: 1.00000
SECONDARY_HORIZONTAL_DATUM: NAD27
XY_ORIGIN: 375930.00000 5206770.00000
SECONDARY_XY_ORIGIN: 375992.55600 5206556.60900
NATION: US
STATE: MT
NW_QUAD_CORNER_XY: 376459.57200 5206445.53700
NE_QUAD_CORNER_XY: 381211.04500 5206348.85000
SE_QUAD_CORNERY_XY: 381072.56200 5199403.66400
SW_QUAD_CORNER_XY: 376315.54800 5199500.36500
SECONDARY_NW_QUAD_XY: 376455.76500 5206227.04200
SECONDARY_NE_QUAD_XY: 381207.38400 5206130.35200
SECONDARY_SE_QUAD_XY: 381068.90200 5199185.19500
SECONDARY_SW_QUAD_XY: 376311.74100 5199281.89900
RMSE_XY: 1.93000
IMAGE_SOURCE: BLACK AND WHITE FILM
SOURCE_IMAGE_ID: NAPP 8386 33
SOURCE_IMAGE_DATE: 1995 08 05
SOURCE_IMAGE_ID: NAPP 9486 143
SOURCE_IMAGE_DATE: 1995 08 20
SOURCE_DEM_DATE: 1993 00 00
AGENCY: WESTERN MAPPING CENTER (WMC)
PRODUCER: ANALYTICAL SURVEYS INC.
PRODUCTION_SYSTEM: ORBIT OR_RECTIFY V.5.2
COMPRESSION: UNDEFINED
STANDARD_VERSION: 1996 12
METADATA_DATE: 1999 02 04
DATA_FILE_SIZE: 43090410
BYTE_COUNT: 5610
