FILENAME: O4611210.NWS.949897.tif
QUADRANGLE_NAME: NEVADA LAKE
QUADRANT: NW
WEST_LONGITUDE: -112 52 30.00000
EAST_LONGITUDE: -112 48 45.00000
NORTH_LATITUDE: 46 52 30.00000
SOUTH_LATITUDE: 46 48 45.00000
PRODUCTION_DATE: 1998 12 22
RASTER_ORDER: LEFT_RIGHT/TOP_BOTTOM
BAND_ORGANIZATION: SINGLE FILE
BAND_CONTENT: BLACK&WHITE
BAND_CONTENT: UNDEFINED
BAND_CONTENT: UNDEFINED
BITS_PER_PIXEL: 8
SAMPLES_AND_LINES: 5610 7710
HORIZONTAL_DATUM: NAD83
HORIZONTAL_COORDINATE_SYSTEM: UTM
COORDINATE_ZONE: 12
HORIZONTAL_UNITS: METERS
HORIZONTAL_RESOLUTION: 1.00000
SECONDARY_HORIZONTAL_DATUM: NAD27
XY_ORIGIN: 356580.00000 5193300.00000
SECONDARY_XY_ORIGIN: 356643.02300 5193086.93600
NATION: US
STATE: MT
NW_QUAD_CORNER_XY: 357121.56700 5192980.06900
NE_QUAD_CORNER_XY: 361884.07700 5192868.17500
SE_QUAD_CORNERY_XY: 361723.75500 5185923.18700
SW_QUAD_CORNER_XY: 356955.71300 5186035.09600
SECONDARY_NW_QUAD_XY: 357117.17500 5192761.64600
SECONDARY_NE_QUAD_XY: 361879.83200 5192649.74800
SECONDARY_SE_QUAD_XY: 361719.51100 5185704.79000
SECONDARY_SW_QUAD_XY: 356951.32200 5185816.70300
RMSE_XY: 2.13000
IMAGE_SOURCE: BLACK AND WHITE FILM
SOURCE_IMAGE_ID: NAPP 9485 88
SOURCE_IMAGE_DATE: 1995 08 20
SOURCE_DEM_DATE: 1989 00 00
AGENCY: WESTERN MAPPING CENTER (WMC)
PRODUCER: ANALYTICAL SURVEYS INC.
PRODUCTION_SYSTEM: ORBIT OR_RECTIFY V.5.2
COMPRESSION: UNDEFINED
STANDARD_VERSION: 1996 12
METADATA_DATE: 1999 01 05
DATA_FILE_SIZE: 43258710
BYTE_COUNT: 5610
