FILENAME: O4611224.NES.956528.tif
QUADRANGLE_NAME: SCRATCHGRAVEL HILLS
QUADRANT: NE
WEST_LONGITUDE: -112 3 45.00000
EAST_LONGITUDE: -112 0 0.00000
NORTH_LATITUDE: 46 45 0.00000
SOUTH_LATITUDE: 46 41 15.00000
PRODUCTION_DATE: 1998 12 30
RASTER_ORDER: LEFT_RIGHT/TOP_BOTTOM
BAND_ORGANIZATION: SINGLE FILE
BAND_CONTENT: BLACK&WHITE
BAND_CONTENT: UNDEFINED
BAND_CONTENT: UNDEFINED
BITS_PER_PIXEL: 8
SAMPLES_AND_LINES: 5550 7650
HORIZONTAL_DATUM: NAD83
HORIZONTAL_COORDINATE_SYSTEM: UTM
COORDINATE_ZONE: 12
HORIZONTAL_UNITS: METERS
HORIZONTAL_RESOLUTION: 1.00000
SECONDARY_HORIZONTAL_DATUM: NAD27
XY_ORIGIN: 418380.00000 5178240.00000
SECONDARY_XY_ORIGIN: 418441.35000 5178027.64700
NATION: US
STATE: MT
NW_QUAD_CORNER_XY: 418847.09600 5177931.22300
NE_QUAD_CORNER_XY: 423620.76700 5177868.63500
SE_QUAD_CORNERY_XY: 423532.51500 5170923.64100
SW_QUAD_CORNER_XY: 418753.32800 5170986.23700
SECONDARY_NW_QUAD_XY: 418844.60800 5177712.82600
SECONDARY_NE_QUAD_XY: 423618.42500 5177650.23500
SECONDARY_SE_QUAD_XY: 423530.17400 5170705.27400
SECONDARY_SW_QUAD_XY: 418750.84000 5170767.87200
RMSE_XY: 1.13000
IMAGE_SOURCE: BLACK AND WHITE FILM
SOURCE_IMAGE_ID: NAPP 8388 30
SOURCE_IMAGE_DATE: 1995 08 09
SOURCE_DEM_DATE: 1998 01 01
AGENCY: WESTERN MAPPING CENTER (WMC)
PRODUCER: ANALYTICAL SURVEYS INC.
PRODUCTION_SYSTEM: ORBIT OR_RECTIFY V.5.2
COMPRESSION: UNDEFINED
STANDARD_VERSION: 1996 12
METADATA_DATE: 1999 01 05
DATA_FILE_SIZE: 42463050
BYTE_COUNT: 5550
