FILENAME: O4611225.NWS.1077124.tif
QUADRANGLE_NAME: GRIFFIN CREEK
QUADRANT: NW
WEST_LONGITUDE: -113 0 0.00000
EAST_LONGITUDE: -112 56 15.00000
NORTH_LATITUDE: 46 37 30.00000
SOUTH_LATITUDE: 46 33 45.00000
PRODUCTION_DATE: 2000 5 26
RASTER_ORDER: LEFT_RIGHT/TOP_BOTTOM
BAND_ORGANIZATION: SINGLE FILE
BAND_CONTENT: BLACK&WHITE
BAND_CONTENT: UNDEFINED
BAND_CONTENT: UNDEFINED
BITS_PER_PIXEL: 8
SAMPLES_AND_LINES: 5632 7673
HORIZONTAL_DATUM: NAD83
HORIZONTAL_COORDINATE_SYSTEM: UTM
COORDINATE_ZONE: 12
HORIZONTAL_UNITS: METERS
HORIZONTAL_RESOLUTION: 1.00000
SECONDARY_HORIZONTAL_DATUM: NAD27
XY_ORIGIN: 346344.00000 5165736.00000
SECONDARY_XY_ORIGIN: 346407.46300 5165523.68100
NATION: US
NATION: "SCIENCE
STATE: MT
NW_QUAD_CORNER_XY: 346890.00200 5165435.88400
NE_QUAD_CORNER_XY: 351674.58700 5165316.33600
SE_QUAD_CORNERY_XY: 351503.91000 5158371.64900
SW_QUAD_CORNER_XY: 346713.81600 5158491.21100
SECONDARY_NW_QUAD_XY: 346885.32100 5165217.59400
SECONDARY_NE_QUAD_XY: 351670.05100 5165098.04300
SECONDARY_SE_QUAD_XY: 351499.37600 5158153.38900
SECONDARY_SW_QUAD_XY: 346709.13500 5158272.95600
RMSE_XY: 1.70000
IMAGE_SOURCE: BLACK AND WHITE FILM
SOURCE_IMAGE_ID: NAPP 9489 004
SOURCE_IMAGE_DATE: 1995 08 28
SOURCE_IMAGE_ID: NAPP 9489 002
SOURCE_IMAGE_DATE: 1995 08 28
SOURCE_IMAGE_ID: NAPP 9489 003
SOURCE_IMAGE_DATE: 1995 08 28
SOURCE_IMAGE_ID: NAPP 9489 005
SOURCE_IMAGE_DATE: 1995 08 28
SOURCE_DEM_DATE: 1991 00 00
AGENCY: WESTERN MAPPING CENTER (WMC)
PRODUCER: UNDEFINED
PRODUCTION_SYSTEM: GIS/MAGIC
COMPRESSION: UNDEFINED
STANDARD_VERSION: 1996 12
METADATA_DATE: 2000 05 30
DATA_FILE_SIZE: 43219968
BYTE_COUNT: 5632
