FILENAME: O4611226.SWS.1077150.tif
QUADRANGLE_NAME: GARRISON
QUADRANT: SW
WEST_LONGITUDE: -112 52 30.00000
EAST_LONGITUDE: -112 48 45.00000
NORTH_LATITUDE: 46 33 45.00000
SOUTH_LATITUDE: 46 30 0.00000
PRODUCTION_DATE: 2000 5 10
RASTER_ORDER: LEFT_RIGHT/TOP_BOTTOM
BAND_ORGANIZATION: SINGLE FILE
BAND_CONTENT: BLACK&WHITE
BAND_CONTENT: UNDEFINED
BAND_CONTENT: UNDEFINED
BITS_PER_PIXEL: 8
SAMPLES_AND_LINES: 5626 7666
HORIZONTAL_DATUM: NAD83
HORIZONTAL_COORDINATE_SYSTEM: UTM
COORDINATE_ZONE: 12
HORIZONTAL_UNITS: METERS
HORIZONTAL_RESOLUTION: 1.00000
SECONDARY_HORIZONTAL_DATUM: NAD27
XY_ORIGIN: 355760.00000 5158556.00000
SECONDARY_XY_ORIGIN: 355823.27000 5158343.92000
NATION: US
NATION: "SCIENCE
STATE: MT
NW_QUAD_CORNER_XY: 356294.01400 5158255.88400
NE_QUAD_CORNER_XY: 361084.12700 5158143.91800
SE_QUAD_CORNERY_XY: 360924.63500 5151199.27300
SW_QUAD_CORNER_XY: 356129.01900 5151311.25200
SECONDARY_NW_QUAD_XY: 356289.62600 5158037.62200
SECONDARY_NE_QUAD_XY: 361079.88500 5157925.65200
SECONDARY_SE_QUAD_XY: 360920.39400 5150981.04100
SECONDARY_SW_QUAD_XY: 356124.63200 5151093.02400
RMSE_XY: 2.10000
IMAGE_SOURCE: BLACK AND WHITE FILM
SOURCE_IMAGE_ID: NAPP 8380 023
SOURCE_IMAGE_DATE: 1995 06 30
SOURCE_IMAGE_ID: NAPP 9492 022
SOURCE_IMAGE_DATE: 1995 09 12
SOURCE_IMAGE_ID: NAPP 8380 022
SOURCE_IMAGE_DATE: 1995 06 30
SOURCE_IMAGE_ID: NAPP 8380 024
SOURCE_IMAGE_DATE: 1995 06 30
SOURCE_IMAGE_ID: NAPP 9485 066
SOURCE_IMAGE_DATE: 1995 08 20
SOURCE_DEM_DATE: 1991 00 00
AGENCY: WESTERN MAPPING CENTER (WMC)
PRODUCER: UNDEFINED
PRODUCTION_SYSTEM: GIS/MAGIC
COMPRESSION: UNDEFINED
STANDARD_VERSION: 1996 12
METADATA_DATE: 2000 05 30
DATA_FILE_SIZE: 43134542
BYTE_COUNT: 5626
