FILENAME: O4611227.NES.1077193.tif
QUADRANGLE_NAME: LUKE MOUNTAIN
QUADRANT: NE
WEST_LONGITUDE: -112 41 15.00000
EAST_LONGITUDE: -112 37 30.00000
NORTH_LATITUDE: 46 37 30.00000
SOUTH_LATITUDE: 46 33 45.00000
PRODUCTION_DATE: 2000 5 11
RASTER_ORDER: LEFT_RIGHT/TOP_BOTTOM
BAND_ORGANIZATION: SINGLE FILE
BAND_CONTENT: BLACK&WHITE
BAND_CONTENT: UNDEFINED
BAND_CONTENT: UNDEFINED
BITS_PER_PIXEL: 8
SAMPLES_AND_LINES: 5603 7655
HORIZONTAL_DATUM: NAD83
HORIZONTAL_COORDINATE_SYSTEM: UTM
COORDINATE_ZONE: 12
HORIZONTAL_UNITS: METERS
HORIZONTAL_RESOLUTION: 1.00000
SECONDARY_HORIZONTAL_DATUM: NAD27
XY_ORIGIN: 370296.00000 5165177.00000
SECONDARY_XY_ORIGIN: 370358.91400 5164964.76000
NATION: US
NATION: "SCIENCE
STATE: MT
NW_QUAD_CORNER_XY: 370813.02000 5164876.11800
NE_QUAD_CORNER_XY: 375597.65000 5164775.55600
SE_QUAD_CORNERY_XY: 375454.51700 5157830.80500
SW_QUAD_CORNER_XY: 370664.37900 5157931.37900
SECONDARY_NW_QUAD_XY: 370809.07000 5164657.81200
SECONDARY_NE_QUAD_XY: 375593.84700 5164557.24700
SECONDARY_SE_QUAD_XY: 375450.71400 5157612.52900
SECONDARY_SW_QUAD_XY: 370660.42900 5157713.10600
RMSE_XY: 3.60000
IMAGE_SOURCE: BLACK AND WHITE FILM
SOURCE_IMAGE_ID: NAPP 8386 052
SOURCE_IMAGE_DATE: 1995 08 05
SOURCE_IMAGE_ID: NAPP 8386 051
SOURCE_IMAGE_DATE: 1995 08 05
SOURCE_IMAGE_ID: NAPP 8386 053
SOURCE_IMAGE_DATE: 1995 08 05
SOURCE_IMAGE_ID: NAPP 8386 046
SOURCE_IMAGE_DATE: 1995 08 05
SOURCE_IMAGE_ID: NAPP 8386 045
SOURCE_IMAGE_DATE: 1995 08 05
SOURCE_DEM_DATE: 1991 00 00
AGENCY: WESTERN MAPPING CENTER (WMC)
PRODUCER: UNDEFINED
PRODUCTION_SYSTEM: GIS/MAGIC
COMPRESSION: UNDEFINED
STANDARD_VERSION: 1996 12
METADATA_DATE: 2000 05 30
DATA_FILE_SIZE: 42896568
BYTE_COUNT: 5603
