FILENAME: O4611233.NES.1077127.tif
QUADRANGLE_NAME: ROCK CREEK LAKE
QUADRANT: NE
WEST_LONGITUDE: -112 56 15.00000
EAST_LONGITUDE: -112 52 30.00000
NORTH_LATITUDE: 46 30 0.00000
SOUTH_LATITUDE: 46 26 15.00000
PRODUCTION_DATE: 2000 5 26
RASTER_ORDER: LEFT_RIGHT/TOP_BOTTOM
BAND_ORGANIZATION: SINGLE FILE
BAND_CONTENT: BLACK&WHITE
BAND_CONTENT: UNDEFINED
BAND_CONTENT: UNDEFINED
BITS_PER_PIXEL: 8
SAMPLES_AND_LINES: 5637 7670
HORIZONTAL_DATUM: NAD83
HORIZONTAL_COORDINATE_SYSTEM: UTM
COORDINATE_ZONE: 12
HORIZONTAL_UNITS: METERS
HORIZONTAL_RESOLUTION: 1.00000
SECONDARY_HORIZONTAL_DATUM: NAD27
XY_ORIGIN: 350794.00000 5151728.00000
SECONDARY_XY_ORIGIN: 350857.36100 5151516.09100
NATION: US
NATION: "SCIENCE
STATE: MT
NW_QUAD_CORNER_XY: 351333.41200 5151427.02900
NE_QUAD_CORNER_XY: 356129.01900 5151311.25200
SE_QUAD_CORNERY_XY: 355964.19700 5144366.68700
SW_QUAD_CORNER_XY: 351163.09100 5144482.47700
SECONDARY_NW_QUAD_XY: 351328.87800 5151208.80500
SECONDARY_NE_QUAD_XY: 356124.63200 5151093.02400
SECONDARY_SE_QUAD_XY: 355959.81000 5144148.49400
SECONDARY_SW_QUAD_XY: 351158.55900 5144264.28800
RMSE_XY: 1.30000
IMAGE_SOURCE: BLACK AND WHITE FILM
SOURCE_IMAGE_ID: NAPP 9491 084
SOURCE_IMAGE_DATE: 1995 09 01
SOURCE_IMAGE_ID: NAPP 9485 098
SOURCE_IMAGE_DATE: 1995 08 20
SOURCE_IMAGE_ID: NAPP 9491 083
SOURCE_IMAGE_DATE: 1995 09 01
SOURCE_IMAGE_ID: NAPP 8380 022
SOURCE_IMAGE_DATE: 1995 06 30
SOURCE_DEM_DATE: 1966 00 00
AGENCY: WESTERN MAPPING CENTER (WMC)
PRODUCER: UNDEFINED
PRODUCTION_SYSTEM: GIS/MAGIC
COMPRESSION: UNDEFINED
STANDARD_VERSION: 1996 12
METADATA_DATE: 2000 05 30
DATA_FILE_SIZE: 43241427
BYTE_COUNT: 5637
