FILENAME: O4611234.SES.1077157.tif
QUADRANGLE_NAME: CONLEYS LAKE
QUADRANT: SE
WEST_LONGITUDE: -112 48 45.00000
EAST_LONGITUDE: -112 45 0.00000
NORTH_LATITUDE: 46 26 15.00000
SOUTH_LATITUDE: 46 22 30.00000
PRODUCTION_DATE: 2000 5 10
RASTER_ORDER: LEFT_RIGHT/TOP_BOTTOM
BAND_ORGANIZATION: SINGLE FILE
BAND_CONTENT: BLACK&WHITE
BAND_CONTENT: UNDEFINED
BAND_CONTENT: UNDEFINED
BITS_PER_PIXEL: 8
SAMPLES_AND_LINES: 5631 7662
HORIZONTAL_DATUM: NAD83
HORIZONTAL_COORDINATE_SYSTEM: UTM
COORDINATE_ZONE: 12
HORIZONTAL_UNITS: METERS
HORIZONTAL_RESOLUTION: 1.00000
SECONDARY_HORIZONTAL_DATUM: NAD27
XY_ORIGIN: 360237.00000 5144555.00000
SECONDARY_XY_ORIGIN: 360300.20600 5144343.28000
NATION: US
NATION: "SCIENCE
STATE: MT
NW_QUAD_CORNER_XY: 360765.31000 5144254.69600
NE_QUAD_CORNER_XY: 365566.43200 5144146.50300
SE_QUAD_CORNERY_XY: 365412.76500 5137201.98300
SW_QUAD_CORNER_XY: 360606.15200 5137310.18700
SECONDARY_NW_QUAD_XY: 360761.07000 5144036.50000
SECONDARY_NE_QUAD_XY: 365562.33800 5143928.30400
SECONDARY_SE_QUAD_XY: 365408.67200 5136983.82100
SECONDARY_SW_QUAD_XY: 360601.91300 5137092.02800
RMSE_XY: 0.80000
IMAGE_SOURCE: BLACK AND WHITE FILM
SOURCE_IMAGE_ID: NAPP 9485 063
SOURCE_IMAGE_DATE: 1995 08 20
SOURCE_IMAGE_ID: NAPP 8380 018
SOURCE_IMAGE_DATE: 1995 06 30
SOURCE_IMAGE_ID: NAPP 9485 064
SOURCE_IMAGE_DATE: 1995 08 20
SOURCE_IMAGE_ID: NAPP 9485 037
SOURCE_IMAGE_DATE: 1995 08 20
SOURCE_DEM_DATE: 1967 00 00
AGENCY: WESTERN MAPPING CENTER (WMC)
PRODUCER: UNDEFINED
PRODUCTION_SYSTEM: GIS/MAGIC
COMPRESSION: UNDEFINED
STANDARD_VERSION: 1996 12
METADATA_DATE: 2000 05 30
DATA_FILE_SIZE: 43150353
BYTE_COUNT: 5631
