FILENAME: Y:\DOQQ\replacements\temp\193\geotiff\O4611237.NWS.1076885.tif
QUADRANGLE_NAME: BISON MOUNTAIN
QUADRANT: NW
WEST_LONGITUDE: -112 30 0.00000
EAST_LONGITUDE: -112 26 15.00000
NORTH_LATITUDE: 46 30 0.00000
SOUTH_LATITUDE: 46 26 15.00000
PRODUCTION_DATE: 2000 5 4
RASTER_ORDER: LEFT_RIGHT/TOP_BOTTOM
BAND_ORGANIZATION: SINGLE FILE
BAND_CONTENT: BLACK&WHITE
BAND_CONTENT: UNDEFINED
BAND_CONTENT: UNDEFINED
BITS_PER_PIXEL: 8
SAMPLES_AND_LINES: 5597 7644
HORIZONTAL_DATUM: NAD83
HORIZONTAL_COORDINATE_SYSTEM: UTM
COORDINATE_ZONE: 12
HORIZONTAL_UNITS: METERS
HORIZONTAL_RESOLUTION: 1.00000
SECONDARY_HORIZONTAL_DATUM: NAD27
XY_ORIGIN: 384403.00000 5150997.00000
SECONDARY_XY_ORIGIN: 384465.59500 5150785.18100
NATION: US
NATION: "SCIENCE
STATE: MT
NW_QUAD_CORNER_XY: 384902.83700 5150696.34600
NE_QUAD_CORNER_XY: 389698.50000 5150607.15300
SE_QUAD_CORNERY_XY: 389572.15300 5143662.51100
SW_QUAD_CORNER_XY: 384770.99500 5143751.71400
SECONDARY_NW_QUAD_XY: 384899.32800 5150478.09900
SECONDARY_NE_QUAD_XY: 389695.13700 5150388.90300
SECONDARY_SE_QUAD_XY: 389568.79000 5143444.29700
SECONDARY_SW_QUAD_XY: 384767.48600 5143533.50300
RMSE_XY: 2.90000
IMAGE_SOURCE: BLACK AND WHITE FILM
SOURCE_IMAGE_ID: NAPP 9486 043
SOURCE_IMAGE_DATE: 1995 08 20
SOURCE_IMAGE_ID: NAPP 9486 126
SOURCE_IMAGE_DATE: 1995 08 20
SOURCE_IMAGE_ID: NAPP 9486 127
SOURCE_IMAGE_DATE: 1995 08 20
SOURCE_IMAGE_ID: NAPP 9486 191
SOURCE_IMAGE_DATE: 1995 08 20
SOURCE_IMAGE_ID: NAPP 9486 189
SOURCE_IMAGE_DATE: 1995 08 20
SOURCE_DEM_DATE: 1980 00 00
AGENCY: WESTERN MAPPING CENTER (WMC)
PRODUCER: UNDEFINED
PRODUCTION_SYSTEM: GIS/MAGIC
COMPRESSION: UNDEFINED
STANDARD_VERSION: 1996 12
METADATA_DATE: 2000 05 31
DATA_FILE_SIZE: 42789065
BYTE_COUNT: 5597
