FILENAME: O4611239.SWS.956563.tif
QUADRANGLE_NAME: CHESSMAN RESERVOIR
QUADRANT: SW
WEST_LONGITUDE: -112 15 0.00000
EAST_LONGITUDE: -112 11 15.00000
NORTH_LATITUDE: 46 26 15.00000
SOUTH_LATITUDE: 46 22 30.00000
PRODUCTION_DATE: 1998 12 30
RASTER_ORDER: LEFT_RIGHT/TOP_BOTTOM
BAND_ORGANIZATION: SINGLE FILE
BAND_CONTENT: BLACK&WHITE
BAND_CONTENT: UNDEFINED
BAND_CONTENT: UNDEFINED
BITS_PER_PIXEL: 8
SAMPLES_AND_LINES: 5580 7650
HORIZONTAL_DATUM: NAD83
HORIZONTAL_COORDINATE_SYSTEM: UTM
COORDINATE_ZONE: 12
HORIZONTAL_UNITS: METERS
HORIZONTAL_RESOLUTION: 1.00000
SECONDARY_HORIZONTAL_DATUM: NAD27
XY_ORIGIN: 403500.00000 5143740.00000
SECONDARY_XY_ORIGIN: 403561.99900 5143528.39300
NATION: US
STATE: MT
NW_QUAD_CORNER_XY: 403975.66600 5143417.68600
NE_QUAD_CORNER_XY: 408776.84800 5143343.67100
SE_QUAD_CORNERY_XY: 408672.59000 5136399.06800
SW_QUAD_CORNER_XY: 403865.91900 5136473.09000
SECONDARY_NW_QUAD_XY: 403972.74100 5143199.46400
SECONDARY_NE_QUAD_XY: 408774.07000 5143125.44800
SECONDARY_SE_QUAD_XY: 408669.81300 5136180.88100
SECONDARY_SW_QUAD_XY: 403862.99600 5136254.90500
RMSE_XY: 4.02000
IMAGE_SOURCE: BLACK AND WHITE FILM
SOURCE_IMAGE_ID: NAPP 9486 254
SOURCE_IMAGE_DATE: 1995 08 20
SOURCE_DEM_DATE: 1998 01 01
AGENCY: WESTERN MAPPING CENTER (WMC)
PRODUCER: ANALYTICAL SURVEYS INC.
PRODUCTION_SYSTEM: ORBIT OR_RECTIFY V.5.2
COMPRESSION: UNDEFINED
STANDARD_VERSION: 1996 12
METADATA_DATE: 1999 01 05
DATA_FILE_SIZE: 42692580
BYTE_COUNT: 5580
