FILENAME: O4611239.SES.956562.tif
QUADRANGLE_NAME: CHESSMAN RESERVOIR
QUADRANT: SE
WEST_LONGITUDE: -112 11 15.00000
EAST_LONGITUDE: -112 7 30.00000
NORTH_LATITUDE: 46 26 15.00000
SOUTH_LATITUDE: 46 22 30.00000
PRODUCTION_DATE: 1998 12 30
RASTER_ORDER: LEFT_RIGHT/TOP_BOTTOM
BAND_ORGANIZATION: SINGLE FILE
BAND_CONTENT: BLACK&WHITE
BAND_CONTENT: UNDEFINED
BAND_CONTENT: UNDEFINED
BITS_PER_PIXEL: 8
SAMPLES_AND_LINES: 5580 7650
HORIZONTAL_DATUM: NAD83
HORIZONTAL_COORDINATE_SYSTEM: UTM
COORDINATE_ZONE: 12
HORIZONTAL_UNITS: METERS
HORIZONTAL_RESOLUTION: 1.00000
SECONDARY_HORIZONTAL_DATUM: NAD27
XY_ORIGIN: 408300.00000 5143650.00000
SECONDARY_XY_ORIGIN: 408361.83700 5143438.44300
NATION: US
STATE: MT
NW_QUAD_CORNER_XY: 408776.84800 5143343.67100
NE_QUAD_CORNER_XY: 413578.03600 5143273.45300
SE_QUAD_CORNERY_XY: 413479.26700 5136328.84200
SW_QUAD_CORNER_XY: 408672.59000 5136399.06800
SECONDARY_NW_QUAD_XY: 408774.07000 5143125.44800
SECONDARY_NE_QUAD_XY: 413575.40400 5143055.22700
SECONDARY_SE_QUAD_XY: 413476.63500 5136110.65300
SECONDARY_SW_QUAD_XY: 408669.81300 5136180.88100
RMSE_XY: 1.21000
IMAGE_SOURCE: BLACK AND WHITE FILM
SOURCE_IMAGE_ID: NAPP 8388 86
SOURCE_IMAGE_DATE: 1995 08 09
SOURCE_IMAGE_ID: NAPP 8388 84
SOURCE_IMAGE_DATE: 1995 08 09
SOURCE_DEM_DATE: 1998 01 01
AGENCY: WESTERN MAPPING CENTER (WMC)
PRODUCER: ANALYTICAL SURVEYS INC.
PRODUCTION_SYSTEM: ORBIT OR_RECTIFY V.5.2
COMPRESSION: UNDEFINED
STANDARD_VERSION: 1996 12
METADATA_DATE: 1999 01 05
DATA_FILE_SIZE: 42692580
BYTE_COUNT: 5580
