FILENAME: O4611242.NWS.1077163.tif
QUADRANGLE_NAME: RACETRACK
QUADRANT: NW
WEST_LONGITUDE: -112 52 30.00000
EAST_LONGITUDE: -112 48 45.00000
NORTH_LATITUDE: 46 22 30.00000
SOUTH_LATITUDE: 46 18 45.00000
PRODUCTION_DATE: 2000 5 9
RASTER_ORDER: LEFT_RIGHT/TOP_BOTTOM
BAND_ORGANIZATION: SINGLE FILE
BAND_CONTENT: BLACK&WHITE
BAND_CONTENT: UNDEFINED
BAND_CONTENT: UNDEFINED
BITS_PER_PIXEL: 8
SAMPLES_AND_LINES: 5642 7666
HORIZONTAL_DATUM: NAD83
HORIZONTAL_COORDINATE_SYSTEM: UTM
COORDINATE_ZONE: 12
HORIZONTAL_UNITS: METERS
HORIZONTAL_RESOLUTION: 1.00000
SECONDARY_HORIZONTAL_DATUM: NAD27
XY_ORIGIN: 355266.00000 5137723.00000
SECONDARY_XY_ORIGIN: 355329.24900 5137511.31600
NATION: US
NATION: "SCIENCE
STATE: MT
NW_QUAD_CORNER_XY: 355799.54600 5137422.19000
NE_QUAD_CORNER_XY: 360606.15200 5137310.18700
SE_QUAD_CORNERY_XY: 360447.16100 5130365.74800
SW_QUAD_CORNER_XY: 355635.06900 5130477.76200
SECONDARY_NW_QUAD_XY: 355795.16100 5137204.03400
SECONDARY_NE_QUAD_XY: 360601.91300 5137092.02800
SECONDARY_SE_QUAD_XY: 360442.92200 5130147.62600
SECONDARY_SW_QUAD_XY: 355630.68400 5130259.64300
RMSE_XY: 1.60000
IMAGE_SOURCE: BLACK AND WHITE FILM
SOURCE_IMAGE_ID: NAPP 8380 017
SOURCE_IMAGE_DATE: 1995 06 30
SOURCE_IMAGE_ID: NAPP 9492 017
SOURCE_IMAGE_DATE: 1995 09 12
SOURCE_IMAGE_ID: NAPP 8380 016
SOURCE_IMAGE_DATE: 1995 06 30
SOURCE_DEM_DATE: 1966 00 00
AGENCY: WESTERN MAPPING CENTER (WMC)
PRODUCER: UNDEFINED
PRODUCTION_SYSTEM: GIS/MAGIC
COMPRESSION: UNDEFINED
STANDARD_VERSION: 1996 12
METADATA_DATE: 2000 05 30
DATA_FILE_SIZE: 43257214
BYTE_COUNT: 5642
