FILENAME: O4611245.NWS.1076865.tif
QUADRANGLE_NAME: THUNDERBOLT CREEK
QUADRANT: NW
WEST_LONGITUDE: -112 30 0.00000
EAST_LONGITUDE: -112 26 15.00000
NORTH_LATITUDE: 46 22 30.00000
SOUTH_LATITUDE: 46 18 45.00000
PRODUCTION_DATE: 2000 5 4
RASTER_ORDER: LEFT_RIGHT/TOP_BOTTOM
BAND_ORGANIZATION: SINGLE FILE
BAND_CONTENT: BLACK&WHITE
BAND_CONTENT: UNDEFINED
BAND_CONTENT: UNDEFINED
BITS_PER_PIXEL: 8
SAMPLES_AND_LINES: 5607 7644
HORIZONTAL_DATUM: NAD83
HORIZONTAL_COORDINATE_SYSTEM: UTM
COORDINATE_ZONE: 12
HORIZONTAL_UNITS: METERS
HORIZONTAL_RESOLUTION: 1.00000
SECONDARY_HORIZONTAL_DATUM: NAD27
XY_ORIGIN: 384140.00000 5137108.00000
SECONDARY_XY_ORIGIN: 384202.68400 5136896.36500
NATION: US
NATION: "SCIENCE
STATE: MT
NW_QUAD_CORNER_XY: 384639.29100 5136807.15300
NE_QUAD_CORNER_XY: 389445.93900 5136717.94100
SE_QUAD_CORNERY_XY: 389319.85700 5129773.44200
SW_QUAD_CORNER_XY: 384507.72500 5129862.66400
SECONDARY_NW_QUAD_XY: 384635.78200 5136588.97900
SECONDARY_NE_QUAD_XY: 389442.57700 5136499.76400
SECONDARY_SE_QUAD_XY: 389316.49500 5129555.30200
SECONDARY_SW_QUAD_XY: 384504.21700 5129644.52600
RMSE_XY: 1.20000
IMAGE_SOURCE: BLACK AND WHITE FILM
SOURCE_IMAGE_ID: NAPP 9486 194
SOURCE_IMAGE_DATE: 1995 08 20
SOURCE_IMAGE_ID: NAPP 9486 124
SOURCE_IMAGE_DATE: 1995 08 20
SOURCE_IMAGE_ID: NAPP 9486 193
SOURCE_IMAGE_DATE: 1995 08 20
SOURCE_IMAGE_ID: NAPP 9486 040
SOURCE_IMAGE_DATE: 1995 08 20
SOURCE_DEM_DATE: 1980 00 00
AGENCY: WESTERN MAPPING CENTER (WMC)
PRODUCER: UNDEFINED
PRODUCTION_SYSTEM: GIS/MAGIC
COMPRESSION: UNDEFINED
STANDARD_VERSION: 1996 12
METADATA_DATE: 2000 05 31
DATA_FILE_SIZE: 42865515
BYTE_COUNT: 5607
