FILENAME: O4611247.NES.1076940.tif
QUADRANGLE_NAME: MOUNT THOMPSON
QUADRANT: NE
WEST_LONGITUDE: -112 11 15.00000
EAST_LONGITUDE: -112 7 30.00000
NORTH_LATITUDE: 46 22 30.00000
SOUTH_LATITUDE: 46 18 45.00000
PRODUCTION_DATE: 2000 5 21
RASTER_ORDER: LEFT_RIGHT/TOP_BOTTOM
BAND_ORGANIZATION: SINGLE FILE
BAND_CONTENT: BLACK&WHITE
BAND_CONTENT: UNDEFINED
BAND_CONTENT: UNDEFINED
BITS_PER_PIXEL: 8
SAMPLES_AND_LINES: 5579 7625
HORIZONTAL_DATUM: NAD83
HORIZONTAL_COORDINATE_SYSTEM: UTM
COORDINATE_ZONE: 12
HORIZONTAL_UNITS: METERS
HORIZONTAL_RESOLUTION: 1.00000
SECONDARY_HORIZONTAL_DATUM: NAD27
XY_ORIGIN: 408202.00000 5136700.00000
SECONDARY_XY_ORIGIN: 408263.87100 5136488.58400
NATION: US
NATION: "SCIENCE
STATE: MT
NW_QUAD_CORNER_XY: 408672.59000 5136399.06800
NE_QUAD_CORNER_XY: 413479.26700 5136328.84200
SE_QUAD_CORNERY_XY: 413380.60100 5129384.30500
SW_QUAD_CORNER_XY: 408568.44200 5129454.53700
SECONDARY_NW_QUAD_XY: 408669.81300 5136180.88000
SECONDARY_NE_QUAD_XY: 413476.63500 5136110.65300
SECONDARY_SE_QUAD_XY: 413377.97100 5129166.15300
SECONDARY_SW_QUAD_XY: 408565.66500 5129236.38700
RMSE_XY: 1.10000
IMAGE_SOURCE: BLACK AND WHITE FILM
SOURCE_IMAGE_ID: NAPP 8388 088
SOURCE_IMAGE_DATE: 1995 08 09
SOURCE_IMAGE_ID: NAPP 8388 089
SOURCE_IMAGE_DATE: 1995 08 09
SOURCE_IMAGE_ID: NAPP 8388 087
SOURCE_IMAGE_DATE: 1995 08 09
SOURCE_IMAGE_ID: NAPP 9483 021
SOURCE_IMAGE_DATE: 1995 08 14
SOURCE_IMAGE_ID: NAPP 9483 020
SOURCE_IMAGE_DATE: 1995 08 14
SOURCE_DEM_DATE: 1997 00 00
AGENCY: WESTERN MAPPING CENTER (WMC)
PRODUCER: UNDEFINED
PRODUCTION_SYSTEM: GIS/MAGIC
COMPRESSION: UNDEFINED
STANDARD_VERSION: 1996 12
METADATA_DATE: 2000 05 31
DATA_FILE_SIZE: 42545454
BYTE_COUNT: 5579
