FILENAME: O4611248.NWS.1076973.tif
QUADRANGLE_NAME: WICKES
QUADRANT: NW
WEST_LONGITUDE: -112 7 30.00000
EAST_LONGITUDE: -112 3 45.00000
NORTH_LATITUDE: 46 22 30.00000
SOUTH_LATITUDE: 46 18 45.00000
PRODUCTION_DATE: 2000 5 2
RASTER_ORDER: LEFT_RIGHT/TOP_BOTTOM
BAND_ORGANIZATION: SINGLE FILE
BAND_CONTENT: BLACK&WHITE
BAND_CONTENT: UNDEFINED
BAND_CONTENT: UNDEFINED
BITS_PER_PIXEL: 8
SAMPLES_AND_LINES: 5572 7621
HORIZONTAL_DATUM: NAD83
HORIZONTAL_COORDINATE_SYSTEM: UTM
COORDINATE_ZONE: 12
HORIZONTAL_UNITS: METERS
HORIZONTAL_RESOLUTION: 1.00000
SECONDARY_HORIZONTAL_DATUM: NAD27
XY_ORIGIN: 413015.00000 5136629.00000
SECONDARY_XY_ORIGIN: 413076.71200 5136417.64300
NATION: US
NATION: "SCIENCE
STATE: MT
NW_QUAD_CORNER_XY: 413479.26700 5136328.84200
NE_QUAD_CORNER_XY: 418285.94800 5136262.41400
SE_QUAD_CORNERY_XY: 418192.76500 5129317.87000
SW_QUAD_CORNER_XY: 413380.60100 5129384.30500
SECONDARY_NW_QUAD_XY: 413476.63500 5136110.65300
SECONDARY_NE_QUAD_XY: 418283.46200 5136044.22200
SECONDARY_SE_QUAD_XY: 418190.28000 5129099.71600
SECONDARY_SW_QUAD_XY: 413377.97100 5129166.15300
RMSE_XY: 2.80000
IMAGE_SOURCE: BLACK AND WHITE FILM
SOURCE_IMAGE_ID: NAPP 9483 021
SOURCE_IMAGE_DATE: 1995 08 14
SOURCE_IMAGE_ID: NAPP 8388 088
SOURCE_IMAGE_DATE: 1995 08 09
SOURCE_IMAGE_ID: NAPP 8388 087
SOURCE_IMAGE_DATE: 1995 08 09
SOURCE_IMAGE_ID: NAPP 9483 022
SOURCE_IMAGE_DATE: 1995 08 14
SOURCE_IMAGE_ID: NAPP 9483 020
SOURCE_IMAGE_DATE: 1995 08 14
SOURCE_DEM_DATE: 1980 00 00
AGENCY: WESTERN MAPPING CENTER (WMC)
PRODUCER: UNDEFINED
PRODUCTION_SYSTEM: GIS/MAGIC
COMPRESSION: UNDEFINED
STANDARD_VERSION: 1996 12
METADATA_DATE: 2000 05 31
DATA_FILE_SIZE: 42469784
BYTE_COUNT: 5572
