FILENAME: O4611249.NWS.1076929.tif
QUADRANGLE_NAME: ANACONDA NORTH
QUADRANT: NW
WEST_LONGITUDE: -113 0 0.00000
EAST_LONGITUDE: -112 56 15.00000
NORTH_LATITUDE: 46 15 0.00000
SOUTH_LATITUDE: 46 11 15.00000
PRODUCTION_DATE: 2000 4 18
RASTER_ORDER: LEFT_RIGHT/TOP_BOTTOM
BAND_ORGANIZATION: SINGLE FILE
BAND_CONTENT: BLACK&WHITE
BAND_CONTENT: UNDEFINED
BAND_CONTENT: UNDEFINED
BITS_PER_PIXEL: 8
SAMPLES_AND_LINES: 5664 7673
HORIZONTAL_DATUM: NAD83
HORIZONTAL_COORDINATE_SYSTEM: UTM
COORDINATE_ZONE: 12
HORIZONTAL_UNITS: METERS
HORIZONTAL_RESOLUTION: 1.00000
SECONDARY_HORIZONTAL_DATUM: NAD27
XY_ORIGIN: 345291.00000 5124069.00000
SECONDARY_XY_ORIGIN: 345354.18900 5123857.32700
NATION: US
NATION: "SCIENCE
STATE: MT
NW_QUAD_CORNER_XY: 345835.64300 5123768.85200
NE_QUAD_CORNER_XY: 350653.20000 5123649.22700
SE_QUAD_CORNERY_XY: 350483.59400 5116704.94500
SW_QUAD_CORNER_XY: 345660.56200 5116824.58100
SECONDARY_NW_QUAD_XY: 345830.96700 5123550.77800
SECONDARY_NE_QUAD_XY: 350648.67000 5123431.14900
SECONDARY_SE_QUAD_XY: 350479.06500 5116486.90700
SECONDARY_SW_QUAD_XY: 345655.88600 5116606.54600
RMSE_XY: 1.60000
IMAGE_SOURCE: BLACK AND WHITE FILM
SOURCE_IMAGE_ID: NAPP 9491 093
SOURCE_IMAGE_DATE: 1995 09 01
SOURCE_IMAGE_ID: NAPP 8402 032
SOURCE_IMAGE_DATE: 1995 09 02
SOURCE_IMAGE_ID: NAPP 8402 033
SOURCE_IMAGE_DATE: 1995 09 02
SOURCE_IMAGE_ID: NAPP 9485 106
SOURCE_IMAGE_DATE: 1995 08 20
SOURCE_IMAGE_ID: NAPP 9485 104
SOURCE_IMAGE_DATE: 1995 08 20
SOURCE_DEM_DATE: 1989 00 00
AGENCY: WESTERN MAPPING CENTER (WMC)
PRODUCER: UNDEFINED
PRODUCTION_SYSTEM: GIS/MAGIC
COMPRESSION: UNDEFINED
STANDARD_VERSION: 1996 12
METADATA_DATE: 2000 05 29
DATA_FILE_SIZE: 43465536
BYTE_COUNT: 5664
