FILENAME: O4611252.NES.1076836.tif
QUADRANGLE_NAME: LOCKHART MEADOWS
QUADRANT: NE
WEST_LONGITUDE: -112 33 45.00000
EAST_LONGITUDE: -112 30 0.00000
NORTH_LATITUDE: 46 15 0.00000
SOUTH_LATITUDE: 46 11 15.00000
PRODUCTION_DATE: 2000 3 21
RASTER_ORDER: LEFT_RIGHT/TOP_BOTTOM
BAND_ORGANIZATION: SINGLE FILE
BAND_CONTENT: BLACK&WHITE
BAND_CONTENT: UNDEFINED
BAND_CONTENT: UNDEFINED
BITS_PER_PIXEL: 8
SAMPLES_AND_LINES: 5624 7647
HORIZONTAL_DATUM: NAD83
HORIZONTAL_COORDINATE_SYSTEM: UTM
COORDINATE_ZONE: 12
HORIZONTAL_UNITS: METERS
HORIZONTAL_RESOLUTION: 1.00000
SECONDARY_HORIZONTAL_DATUM: NAD27
XY_ORIGIN: 379054.00000 5123312.00000
SECONDARY_XY_ORIGIN: 379116.89500 5123100.59400
NATION: US
NATION: "SCIENCE
STATE: MT
NW_QUAD_CORNER_XY: 379558.69200 5123011.27300
NE_QUAD_CORNER_XY: 384376.29700 5122918.24500
SE_QUAD_CORNERY_XY: 384245.00800 5115973.89700
SW_QUAD_CORNER_XY: 379421.93000 5116066.93400
SECONDARY_NW_QUAD_XY: 379555.03900 5122793.17700
SECONDARY_NE_QUAD_XY: 384372.79000 5122700.14600
SECONDARY_SE_QUAD_XY: 384241.50200 5115755.83700
SECONDARY_SW_QUAD_XY: 379418.27800 5115848.87600
RMSE_XY: 2.10000
IMAGE_SOURCE: BLACK AND WHITE FILM
SOURCE_IMAGE_ID: NAPP 9486 119
SOURCE_IMAGE_DATE: 1995 08 20
SOURCE_IMAGE_ID: NAPP 9486 118
SOURCE_IMAGE_DATE: 1995 08 20
SOURCE_IMAGE_ID: NAPP 9486 197
SOURCE_IMAGE_DATE: 1995 08 20
SOURCE_DEM_DATE: 1954 00 00
AGENCY: WESTERN MAPPING CENTER (WMC)
PRODUCER: UNDEFINED
PRODUCTION_SYSTEM: GIS/MAGIC
COMPRESSION: UNDEFINED
STANDARD_VERSION: 1996 12
METADATA_DATE: 2000 05 29
DATA_FILE_SIZE: 43012352
BYTE_COUNT: 5624
