FILENAME: O4611255.NWS.1076945.tif
QUADRANGLE_NAME: BOULDER WEST
QUADRANT: NW
WEST_LONGITUDE: -112 15 0.00000
EAST_LONGITUDE: -112 11 15.00000
NORTH_LATITUDE: 46 15 0.00000
SOUTH_LATITUDE: 46 11 15.00000
PRODUCTION_DATE: 2000 5 21
RASTER_ORDER: LEFT_RIGHT/TOP_BOTTOM
BAND_ORGANIZATION: SINGLE FILE
BAND_CONTENT: BLACK&WHITE
BAND_CONTENT: UNDEFINED
BAND_CONTENT: UNDEFINED
BITS_PER_PIXEL: 8
SAMPLES_AND_LINES: 5595 7629
HORIZONTAL_DATUM: NAD83
HORIZONTAL_COORDINATE_SYSTEM: UTM
COORDINATE_ZONE: 12
HORIZONTAL_UNITS: METERS
HORIZONTAL_RESOLUTION: 1.00000
SECONDARY_HORIZONTAL_DATUM: NAD27
XY_ORIGIN: 403171.00000 5122885.00000
SECONDARY_XY_ORIGIN: 403233.09000 5122673.79900
NATION: US
NATION: "SCIENCE
STATE: MT
NW_QUAD_CORNER_XY: 403646.77200 5122584.11700
NE_QUAD_CORNER_XY: 408464.40400 5122510.08000
SE_QUAD_CORNERY_XY: 408360.47500 5115565.69600
SW_QUAD_CORNER_XY: 403537.37200 5115639.73900
SECONDARY_NW_QUAD_XY: 403643.85000 5122366.00700
SECONDARY_NE_QUAD_XY: 408461.62700 5122291.96800
SECONDARY_SE_QUAD_XY: 408357.69900 5115347.62300
SECONDARY_SW_QUAD_XY: 403534.45000 5115421.66900
RMSE_XY: 1.60000
IMAGE_SOURCE: BLACK AND WHITE FILM
SOURCE_IMAGE_ID: NAPP 9484 140
SOURCE_IMAGE_DATE: 1995 08 14
SOURCE_IMAGE_ID: NAPP 9484 128
SOURCE_IMAGE_DATE: 1995 08 14
SOURCE_IMAGE_ID: NAPP 9484 130
SOURCE_IMAGE_DATE: 1995 08 14
SOURCE_IMAGE_ID: NAPP 9484 141
SOURCE_IMAGE_DATE: 1995 08 14
SOURCE_IMAGE_ID: NAPP 9484 139
SOURCE_IMAGE_DATE: 1995 08 14
SOURCE_DEM_DATE: 1980 00 00
AGENCY: WESTERN MAPPING CENTER (WMC)
PRODUCER: UNDEFINED
PRODUCTION_SYSTEM: GIS/MAGIC
COMPRESSION: UNDEFINED
STANDARD_VERSION: 1996 12
METADATA_DATE: 2000 05 31
DATA_FILE_SIZE: 42689850
BYTE_COUNT: 5595
