FILENAME: O4611255.NES.1076944.tif
QUADRANGLE_NAME: BOULDER WEST
QUADRANT: NE
WEST_LONGITUDE: -112 11 15.00000
EAST_LONGITUDE: -112 7 30.00000
NORTH_LATITUDE: 46 15 0.00000
SOUTH_LATITUDE: 46 11 15.00000
PRODUCTION_DATE: 2000 5 21
RASTER_ORDER: LEFT_RIGHT/TOP_BOTTOM
BAND_ORGANIZATION: SINGLE FILE
BAND_CONTENT: BLACK&WHITE
BAND_CONTENT: UNDEFINED
BAND_CONTENT: UNDEFINED
BITS_PER_PIXEL: 8
SAMPLES_AND_LINES: 5590 7625
HORIZONTAL_DATUM: NAD83
HORIZONTAL_COORDINATE_SYSTEM: UTM
COORDINATE_ZONE: 12
HORIZONTAL_UNITS: METERS
HORIZONTAL_RESOLUTION: 1.00000
SECONDARY_HORIZONTAL_DATUM: NAD27
XY_ORIGIN: 407994.00000 5122811.00000
SECONDARY_XY_ORIGIN: 408055.93800 5122599.87600
NATION: US
NATION: "SCIENCE
STATE: MT
NW_QUAD_CORNER_XY: 408464.40400 5122510.08000
NE_QUAD_CORNER_XY: 413282.04000 5122439.84100
SE_QUAD_CORNERY_XY: 413183.58200 5115495.45000
SW_QUAD_CORNER_XY: 408360.47500 5115565.69600
SECONDARY_NW_QUAD_XY: 408461.62700 5122291.96800
SECONDARY_NE_QUAD_XY: 413279.41000 5122221.72700
SECONDARY_SE_QUAD_XY: 413180.95200 5115277.37600
SECONDARY_SW_QUAD_XY: 408357.69900 5115347.62300
RMSE_XY: 1.80000
IMAGE_SOURCE: BLACK AND WHITE FILM
SOURCE_IMAGE_ID: NAPP 8388 092
SOURCE_IMAGE_DATE: 1995 08 09
SOURCE_IMAGE_ID: NAPP 9484 140
SOURCE_IMAGE_DATE: 1995 08 14
SOURCE_IMAGE_ID: NAPP 8388 093
SOURCE_IMAGE_DATE: 1995 08 09
SOURCE_IMAGE_ID: NAPP 8388 091
SOURCE_IMAGE_DATE: 1995 08 09
SOURCE_DEM_DATE: 1980 00 00
AGENCY: WESTERN MAPPING CENTER (WMC)
PRODUCER: UNDEFINED
PRODUCTION_SYSTEM: GIS/MAGIC
COMPRESSION: UNDEFINED
STANDARD_VERSION: 1996 12
METADATA_DATE: 2000 05 31
DATA_FILE_SIZE: 42629340
BYTE_COUNT: 5590
