FILENAME: Y:\DOQQ\replacements\temp\193\geotiff\O4611256.NWS.1076977.tif
QUADRANGLE_NAME: BOULDER EAST
QUADRANT: NW
WEST_LONGITUDE: -112 7 30.00000
EAST_LONGITUDE: -112 3 45.00000
NORTH_LATITUDE: 46 15 0.00000
SOUTH_LATITUDE: 46 11 15.00000
PRODUCTION_DATE: 2000 5 2
RASTER_ORDER: LEFT_RIGHT/TOP_BOTTOM
BAND_ORGANIZATION: SINGLE FILE
BAND_CONTENT: BLACK&WHITE
BAND_CONTENT: UNDEFINED
BAND_CONTENT: UNDEFINED
BITS_PER_PIXEL: 8
SAMPLES_AND_LINES: 5583 7621
HORIZONTAL_DATUM: NAD83
HORIZONTAL_COORDINATE_SYSTEM: UTM
COORDINATE_ZONE: 12
HORIZONTAL_UNITS: METERS
HORIZONTAL_RESOLUTION: 1.00000
SECONDARY_HORIZONTAL_DATUM: NAD27
XY_ORIGIN: 412818.00000 5122740.00000
SECONDARY_XY_ORIGIN: 412879.78700 5122528.95200
NATION: US
NATION: "SCIENCE
STATE: MT
NW_QUAD_CORNER_XY: 413282.04000 5122439.84100
NE_QUAD_CORNER_XY: 418099.68000 5122373.40000
SE_QUAD_CORNERY_XY: 418006.69400 5115429.00300
SW_QUAD_CORNER_XY: 413183.58200 5115495.45000
SECONDARY_NW_QUAD_XY: 413279.41000 5122221.72700
SECONDARY_NE_QUAD_XY: 418097.19600 5122155.28400
SECONDARY_SE_QUAD_XY: 418004.21000 5115210.92600
SECONDARY_SW_QUAD_XY: 413180.95200 5115277.37600
RMSE_XY: 2.30000
IMAGE_SOURCE: BLACK AND WHITE FILM
SOURCE_IMAGE_ID: NAPP 9483 025
SOURCE_IMAGE_DATE: 1995 08 14
SOURCE_IMAGE_ID: NAPP 9483 026
SOURCE_IMAGE_DATE: 1995 08 14
SOURCE_IMAGE_ID: NAPP 9483 024
SOURCE_IMAGE_DATE: 1995 08 14
SOURCE_IMAGE_ID: NAPP 9483 023
SOURCE_IMAGE_DATE: 1995 08 14
SOURCE_IMAGE_ID: NAPP 9491 111
SOURCE_IMAGE_DATE: 1995 09 01
SOURCE_DEM_DATE: 1992 00 00
AGENCY: WESTERN MAPPING CENTER (WMC)
PRODUCER: UNDEFINED
PRODUCTION_SYSTEM: GIS/MAGIC
COMPRESSION: UNDEFINED
STANDARD_VERSION: 1996 12
METADATA_DATE: 2000 05 31
DATA_FILE_SIZE: 42553626
BYTE_COUNT: 5583
