FILENAME: O4611259.SWS.1076831.tif
QUADRANGLE_NAME: RAMSAY
QUADRANT: SW
WEST_LONGITUDE: -112 45 0.00000
EAST_LONGITUDE: -112 41 15.00000
NORTH_LATITUDE: 46 3 45.00000
SOUTH_LATITUDE: 46 0 0.00000
PRODUCTION_DATE: 2000 3 30
RASTER_ORDER: LEFT_RIGHT/TOP_BOTTOM
BAND_ORGANIZATION: SINGLE FILE
BAND_CONTENT: BLACK&WHITE
BAND_CONTENT: UNDEFINED
BAND_CONTENT: UNDEFINED
BITS_PER_PIXEL: 8
SAMPLES_AND_LINES: 5657 7658
HORIZONTAL_DATUM: NAD83
HORIZONTAL_COORDINATE_SYSTEM: UTM
COORDINATE_ZONE: 12
HORIZONTAL_UNITS: METERS
HORIZONTAL_RESOLUTION: 1.00000
SECONDARY_HORIZONTAL_DATUM: NAD27
XY_ORIGIN: 364125.00000 5102781.00000
SECONDARY_XY_ORIGIN: 364188.20600 5102569.84200
NATION: US
NATION: "SCIENCE
STATE: MT
NW_QUAD_CORNER_XY: 364646.85300 5102480.42300
NE_QUAD_CORNER_XY: 369480.84300 5102375.97100
SE_QUAD_CORNERY_XY: 369333.60300 5095431.85900
SW_QUAD_CORNER_XY: 364494.15600 5095536.31900
SECONDARY_NW_QUAD_XY: 364642.76400 5102262.45500
SECONDARY_NE_QUAD_XY: 369476.90000 5102158.00000
SECONDARY_SE_QUAD_XY: 369329.66100 5095213.92900
SECONDARY_SW_QUAD_XY: 364490.06800 5095318.39200
RMSE_XY: 1.40000
IMAGE_SOURCE: BLACK AND WHITE FILM
SOURCE_IMAGE_ID: NAPP 9485 048
SOURCE_IMAGE_DATE: 1995 08 20
SOURCE_IMAGE_ID: NAPP 9485 047
SOURCE_IMAGE_DATE: 1995 08 20
SOURCE_DEM_DATE: 1954 00 00
AGENCY: WESTERN MAPPING CENTER (WMC)
PRODUCER: UNDEFINED
PRODUCTION_SYSTEM: GIS/MAGIC
COMPRESSION: UNDEFINED
STANDARD_VERSION: 1996 12
METADATA_DATE: 2000 05 29
DATA_FILE_SIZE: 43326963
BYTE_COUNT: 5657
