FILENAME: O4611262.SES.1076937.tif
QUADRANGLE_NAME: WHITETAIL PEAK
QUADRANT: SE
WEST_LONGITUDE: -112 18 45.00000
EAST_LONGITUDE: -112 15 0.00000
NORTH_LATITUDE: 46 3 45.00000
SOUTH_LATITUDE: 46 0 0.00000
PRODUCTION_DATE: 2000 5 29
RASTER_ORDER: LEFT_RIGHT/TOP_BOTTOM
BAND_ORGANIZATION: SINGLE FILE
BAND_CONTENT: BLACK&WHITE
BAND_CONTENT: UNDEFINED
BAND_CONTENT: UNDEFINED
BITS_PER_PIXEL: 8
SAMPLES_AND_LINES: 5616 7633
HORIZONTAL_DATUM: NAD83
HORIZONTAL_COORDINATE_SYSTEM: UTM
COORDINATE_ZONE: 12
HORIZONTAL_UNITS: METERS
HORIZONTAL_RESOLUTION: 1.00000
SECONDARY_HORIZONTAL_DATUM: NAD27
XY_ORIGIN: 398004.00000 5102130.00000
SECONDARY_XY_ORIGIN: 398066.26800 5101919.02300
NATION: US
NATION: "SCIENCE
STATE: MT
NW_QUAD_CORNER_XY: 398484.89300 5101829.05600
NE_QUAD_CORNER_XY: 403318.91800 5101751.20200
SE_QUAD_CORNERY_XY: 403209.86400 5094807.04200
SW_QUAD_CORNER_XY: 398370.38500 5094884.90300
SECONDARY_NW_QUAD_XY: 398481.82600 5101611.06900
SECONDARY_NE_QUAD_XY: 403315.99700 5101533.21200
SECONDARY_SE_QUAD_XY: 403206.94400 5094589.09400
SECONDARY_SW_QUAD_XY: 398367.31900 5094666.95600
RMSE_XY: 4.30000
IMAGE_SOURCE: BLACK AND WHITE FILM
SOURCE_IMAGE_ID: NAPP 9484 123
SOURCE_IMAGE_DATE: 1995 08 14
SOURCE_IMAGE_ID: NAPP 9484 122
SOURCE_IMAGE_DATE: 1995 08 14
SOURCE_IMAGE_ID: NAPP 9484 124
SOURCE_IMAGE_DATE: 1995 08 14
SOURCE_DEM_DATE: 1980 00 00
AGENCY: WESTERN MAPPING CENTER (WMC)
PRODUCER: UNDEFINED
PRODUCTION_SYSTEM: GIS/MAGIC
COMPRESSION: UNDEFINED
STANDARD_VERSION: 1996 12
METADATA_DATE: 2000 05 29
DATA_FILE_SIZE: 42872544
BYTE_COUNT: 5616
