FILENAME: O4611263.SES.1076914.tif
QUADRANGLE_NAME: RATIO MOUNTAIN
QUADRANT: SE
WEST_LONGITUDE: -112 11 15.00000
EAST_LONGITUDE: -112 7 30.00000
NORTH_LATITUDE: 46 3 45.00000
SOUTH_LATITUDE: 46 0 0.00000
PRODUCTION_DATE: 2000 5 21
RASTER_ORDER: LEFT_RIGHT/TOP_BOTTOM
BAND_ORGANIZATION: SINGLE FILE
BAND_CONTENT: BLACK&WHITE
BAND_CONTENT: UNDEFINED
BAND_CONTENT: UNDEFINED
BITS_PER_PIXEL: 8
SAMPLES_AND_LINES: 5605 7625
HORIZONTAL_DATUM: NAD83
HORIZONTAL_COORDINATE_SYSTEM: UTM
COORDINATE_ZONE: 12
HORIZONTAL_UNITS: METERS
HORIZONTAL_RESOLUTION: 1.00000
SECONDARY_HORIZONTAL_DATUM: NAD27
XY_ORIGIN: 407683.00000 5101978.00000
SECONDARY_XY_ORIGIN: 407744.96000 5101767.13500
NATION: US
NATION: "SCIENCE
STATE: MT
NW_QUAD_CORNER_XY: 408152.94600 5101677.14600
NE_QUAD_CORNER_XY: 412986.97900 5101606.88900
SE_QUAD_CORNERY_XY: 412888.83400 5094662.71900
SW_QUAD_CORNER_XY: 408049.34700 5094732.98100
SECONDARY_NW_QUAD_XY: 408150.17200 5101459.15400
SECONDARY_NE_QUAD_XY: 412984.35100 5101388.89500
SECONDARY_SE_QUAD_XY: 412886.20600 5094444.76600
SECONDARY_SW_QUAD_XY: 408046.57300 5094515.03000
RMSE_XY: 2.60000
IMAGE_SOURCE: BLACK AND WHITE FILM
SOURCE_IMAGE_ID: NAPP 9483 030
SOURCE_IMAGE_DATE: 1995 08 14
SOURCE_IMAGE_ID: NAPP 9484 147
SOURCE_IMAGE_DATE: 1995 08 14
SOURCE_IMAGE_ID: NAPP 9484 146
SOURCE_IMAGE_DATE: 1995 08 14
SOURCE_IMAGE_ID: NAPP 8388 099
SOURCE_IMAGE_DATE: 1995 08 09
SOURCE_IMAGE_ID: NAPP 9483 032
SOURCE_IMAGE_DATE: 1995 08 14
SOURCE_DEM_DATE: 1985 00 00
AGENCY: WESTERN MAPPING CENTER (WMC)
PRODUCER: UNDEFINED
PRODUCTION_SYSTEM: GIS/MAGIC
COMPRESSION: UNDEFINED
STANDARD_VERSION: 1996 12
METADATA_DATE: 2000 05 31
DATA_FILE_SIZE: 42743730
BYTE_COUNT: 5605
