FILENAME: O4611102.SES.1154477.tif
QUADRANGLE_NAME: CANDLE MOUNTAIN
QUADRANT: SE
WEST_LONGITUDE: -111 48 45.00000
EAST_LONGITUDE: -111 45 0.00000
NORTH_LATITUDE: 46 56 15.00000
SOUTH_LATITUDE: 46 52 30.00000
PRODUCTION_DATE: 2001 07 17
RASTER_ORDER: LEFT_RIGHT/TOP_BOTTOM
BAND_ORGANIZATION: SINGLE FILE
BAND_CONTENT: BLACK&WHITE
BAND_CONTENT: UNDEFINED
BAND_CONTENT: UNDEFINED
BITS_PER_PIXEL: 8
SAMPLES_AND_LINES: 5520 7620
HORIZONTAL_DATUM: NAD83
HORIZONTAL_COORDINATE_SYSTEM: UTM
COORDINATE_ZONE: 12
HORIZONTAL_UNITS: METERS
HORIZONTAL_RESOLUTION: 1.00000
SECONDARY_HORIZONTAL_DATUM: NAD27
XY_ORIGIN: 437700.00000 5198850.00000
SECONDARY_XY_ORIGIN: 437760.64300 5198637.22600
NATION: US
STATE: MT
NW_QUAD_CORNER_XY: 438157.36200 5198539.12400
NE_QUAD_CORNER_XY: 442914.46900 5198491.73000
SE_QUAD_CORNERY_XY: 442848.07700 5191546.48500
SW_QUAD_CORNER_XY: 438085.43700 5191593.88600
SECONDARY_NW_QUAD_XY: 438155.45800 5198320.62900
SECONDARY_NE_QUAD_XY: 442912.71200 5198273.23300
SECONDARY_SE_QUAD_XY: 442846.32000 5191328.01800
SECONDARY_SW_QUAD_XY: 438083.53400 5191375.42000
RMSE_XY: 3.29000
IMAGE_SOURCE: BLACK AND WHITE FILM
SOURCE_IMAGE_ID: NAPP 9181 235
SOURCE_IMAGE_DATE: 1997 09 09
SOURCE_IMAGE_ID: NAPP 9181 176
SOURCE_IMAGE_DATE: 1997 09 09
SOURCE_DEM_DATE: 1993 00 00
AGENCY: WESTERN MAPPING CENTER (WMC)
PRODUCER: ANALYTICAL SURVEYS INC.
PRODUCTION_SYSTEM: ORBIT OR_RECTIFY V.5.2
COMPRESSION: UNDEFINED
STANDARD_VERSION: 1996 12
METADATA_DATE: 2001 07 18
DATA_FILE_SIZE: 42067920
BYTE_COUNT: 5520
