FILENAME: O4611117.SWS.1154510.tif
QUADRANGLE_NAME: LAKE HELENA
QUADRANT: SW
WEST_LONGITUDE: -112 0 0.00000
EAST_LONGITUDE: -111 56 15.00000
NORTH_LATITUDE: 46 41 15.00000
SOUTH_LATITUDE: 46 37 30.00000
PRODUCTION_DATE: 2001 07 19
RASTER_ORDER: LEFT_RIGHT/TOP_BOTTOM
BAND_ORGANIZATION: SINGLE FILE
BAND_CONTENT: BLACK&WHITE
BAND_CONTENT: UNDEFINED
BAND_CONTENT: UNDEFINED
BITS_PER_PIXEL: 8
SAMPLES_AND_LINES: 5580 7650
HORIZONTAL_DATUM: NAD83
HORIZONTAL_COORDINATE_SYSTEM: UTM
COORDINATE_ZONE: 12
HORIZONTAL_UNITS: METERS
HORIZONTAL_RESOLUTION: 1.00000
SECONDARY_HORIZONTAL_DATUM: NAD27
XY_ORIGIN: 423060.00000 5171250.00000
SECONDARY_XY_ORIGIN: 423121.22000 5171037.87000
NATION: US
STATE: MT
NW_QUAD_CORNER_XY: 423532.51500 5170923.64100
NE_QUAD_CORNER_XY: 428311.70700 5170864.83900
SE_QUAD_CORNERY_XY: 428229.05800 5163919.91200
SW_QUAD_CORNER_XY: 423444.35500 5163978.72100
SECONDARY_NW_QUAD_XY: 423530.17400 5170705.27400
SECONDARY_NE_QUAD_XY: 428309.51300 5170646.47000
SECONDARY_SE_QUAD_XY: 428226.86400 5163701.57700
SECONDARY_SW_QUAD_XY: 423442.01400 5163760.38700
RMSE_XY: 0.81000
IMAGE_SOURCE: BLACK AND WHITE FILM
SOURCE_IMAGE_ID: NAPP 9182 51
SOURCE_IMAGE_DATE: 1997 09 09
SOURCE_DEM_DATE: 2001 01 01
AGENCY: WESTERN MAPPING CENTER (WMC)
PRODUCER: ANALYTICAL SURVEYS INC.
PRODUCTION_SYSTEM: ORBIT OR_RECTIFY V.5.2
COMPRESSION: UNDEFINED
STANDARD_VERSION: 1996 12
METADATA_DATE: 2001 08 10
DATA_FILE_SIZE: 42692580
BYTE_COUNT: 5580
