FILENAME: O4611117.NWS.1154508.tif
QUADRANGLE_NAME: LAKE HELENA
QUADRANT: NW
WEST_LONGITUDE: -112 0 0.00000
EAST_LONGITUDE: -111 56 15.00000
NORTH_LATITUDE: 46 45 0.00000
SOUTH_LATITUDE: 46 41 15.00000
PRODUCTION_DATE: 2001 07 19
RASTER_ORDER: LEFT_RIGHT/TOP_BOTTOM
BAND_ORGANIZATION: SINGLE FILE
BAND_CONTENT: BLACK&WHITE
BAND_CONTENT: UNDEFINED
BAND_CONTENT: UNDEFINED
BITS_PER_PIXEL: 8
SAMPLES_AND_LINES: 5550 7650
HORIZONTAL_DATUM: NAD83
HORIZONTAL_COORDINATE_SYSTEM: UTM
COORDINATE_ZONE: 12
HORIZONTAL_UNITS: METERS
HORIZONTAL_RESOLUTION: 1.00000
SECONDARY_HORIZONTAL_DATUM: NAD27
XY_ORIGIN: 423150.00000 5178180.00000
SECONDARY_XY_ORIGIN: 423211.19200 5177967.68700
NATION: US
STATE: MT
NW_QUAD_CORNER_XY: 423620.76700 5177868.63500
NE_QUAD_CORNER_XY: 428394.44200 5177809.84000
SE_QUAD_CORNERY_XY: 428311.70700 5170864.83900
SW_QUAD_CORNER_XY: 423532.51500 5170923.64100
SECONDARY_NW_QUAD_XY: 423618.42500 5177650.23500
SECONDARY_NE_QUAD_XY: 428392.24700 5177591.43900
SECONDARY_SE_QUAD_XY: 428309.51300 5170646.47000
SECONDARY_SW_QUAD_XY: 423530.17400 5170705.27400
RMSE_XY: 1.00000
IMAGE_SOURCE: BLACK AND WHITE FILM
SOURCE_IMAGE_ID: NAPP 9182 49
SOURCE_IMAGE_DATE: 1997 09 09
SOURCE_IMAGE_ID: NAPP 9182 47
SOURCE_IMAGE_DATE: 1997 09 09
SOURCE_DEM_DATE: 2001 01 01
AGENCY: WESTERN MAPPING CENTER (WMC)
PRODUCER: ANALYTICAL SURVEYS INC.
PRODUCTION_SYSTEM: ORBIT OR_RECTIFY V.5.2
COMPRESSION: UNDEFINED
STANDARD_VERSION: 1996 12
METADATA_DATE: 2001 08 10
DATA_FILE_SIZE: 42463050
BYTE_COUNT: 5550
