FILENAME: O4611126.NWS.1153695.tif
QUADRANGLE_NAME: LOUISVILLE
QUADRANT: NW
WEST_LONGITUDE: -111 52 30.00000
EAST_LONGITUDE: -111 48 45.00000
NORTH_LATITUDE: 46 37 30.00000
SOUTH_LATITUDE: 46 33 45.00000
PRODUCTION_DATE: 2001 07 30
RASTER_ORDER: LEFT_RIGHT/TOP_BOTTOM
BAND_ORGANIZATION: SINGLE FILE
BAND_CONTENT: BLACK&WHITE
BAND_CONTENT: UNDEFINED
BAND_CONTENT: UNDEFINED
BITS_PER_PIXEL: 8
SAMPLES_AND_LINES: 5550 7620
HORIZONTAL_DATUM: NAD83
HORIZONTAL_COORDINATE_SYSTEM: UTM
COORDINATE_ZONE: 12
HORIZONTAL_UNITS: METERS
HORIZONTAL_RESOLUTION: 1.00000
SECONDARY_HORIZONTAL_DATUM: NAD27
XY_ORIGIN: 432570.00000 5164170.00000
SECONDARY_XY_ORIGIN: 432630.96000 5163958.12800
NATION: US
STATE: MT
NW_QUAD_CORNER_XY: 433013.76600 5163864.89800
NE_QUAD_CORNER_XY: 437798.47900 5163813.67800
SE_QUAD_CORNERY_XY: 437726.92600 5156868.81300
SW_QUAD_CORNER_XY: 432936.70800 5156920.03900
SECONDARY_NW_QUAD_XY: 433011.71800 5163646.56000
SECONDARY_NE_QUAD_XY: 437796.57700 5163595.33900
SECONDARY_SE_QUAD_XY: 437725.02400 5156650.50800
SECONDARY_SW_QUAD_XY: 432934.66100 5156701.73500
RMSE_XY: 1.17000
IMAGE_SOURCE: BLACK AND WHITE FILM
SOURCE_IMAGE_ID: NAPP 9181 268
SOURCE_IMAGE_DATE: 1997 09 09
SOURCE_DEM_DATE: 1993 00 00
AGENCY: WESTERN MAPPING CENTER (WMC)
PRODUCER: ANALYTICAL SURVEYS INC.
PRODUCTION_SYSTEM: ORBIT OR_RECTIFY V.5.2
COMPRESSION: UNDEFINED
STANDARD_VERSION: 1996 12
METADATA_DATE: 2001 08 01
DATA_FILE_SIZE: 42296550
BYTE_COUNT: 5550
