FILENAME: O4611133.NES.1153722.tif
QUADRANGLE_NAME: CLANCY
QUADRANT: NE
WEST_LONGITUDE: -111 56 15.00000
EAST_LONGITUDE: -111 52 30.00000
NORTH_LATITUDE: 46 30 0.00000
SOUTH_LATITUDE: 46 26 15.00000
PRODUCTION_DATE: 2001 07 31
RASTER_ORDER: LEFT_RIGHT/TOP_BOTTOM
BAND_ORGANIZATION: SINGLE FILE
BAND_CONTENT: BLACK&WHITE
BAND_CONTENT: UNDEFINED
BAND_CONTENT: UNDEFINED
BITS_PER_PIXEL: 8
SAMPLES_AND_LINES: 5580 7620
HORIZONTAL_DATUM: NAD83
HORIZONTAL_COORDINATE_SYSTEM: UTM
COORDINATE_ZONE: 12
HORIZONTAL_UNITS: METERS
HORIZONTAL_RESOLUTION: 1.00000
SECONDARY_HORIZONTAL_DATUM: NAD27
XY_ORIGIN: 427590.00000 5150340.00000
SECONDARY_XY_ORIGIN: 427651.16200 5150128.47200
NATION: US
STATE: MT
NW_QUAD_CORNER_XY: 428064.01800 5150030.28100
NE_QUAD_CORNER_XY: 432859.73100 5149975.25400
SE_QUAD_CORNERY_XY: 432782.83300 5143030.54400
SW_QUAD_CORNER_XY: 427981.62700 5143085.57700
SECONDARY_NW_QUAD_XY: 428061.82500 5149812.01400
SECONDARY_NE_QUAD_XY: 432857.68300 5149756.98500
SECONDARY_SE_QUAD_XY: 432780.78600 5142812.31100
SECONDARY_SW_QUAD_XY: 427979.43400 5142867.34500
RMSE_XY: 2.13000
IMAGE_SOURCE: BLACK AND WHITE FILM
SOURCE_IMAGE_ID: NAPP 11009 25
SOURCE_IMAGE_DATE: 1998 07 22
SOURCE_DEM_DATE: 1980 00 00
AGENCY: WESTERN MAPPING CENTER (WMC)
PRODUCER: ANALYTICAL SURVEYS INC.
PRODUCTION_SYSTEM: ORBIT OR_RECTIFY V.5.2
COMPRESSION: UNDEFINED
STANDARD_VERSION: 1996 12
METADATA_DATE: 2001 08 01
DATA_FILE_SIZE: 42525180
BYTE_COUNT: 5580
