FILENAME: O4611142.NES.1153702.tif
QUADRANGLE_NAME: CROW CREEK FALLS
QUADRANT: NE
WEST_LONGITUDE: -111 48 45.00000
EAST_LONGITUDE: -111 45 0.00000
NORTH_LATITUDE: 46 22 30.00000
SOUTH_LATITUDE: 46 18 45.00000
PRODUCTION_DATE: 2001 07 30
RASTER_ORDER: LEFT_RIGHT/TOP_BOTTOM
BAND_ORGANIZATION: SINGLE FILE
BAND_CONTENT: BLACK&WHITE
BAND_CONTENT: UNDEFINED
BAND_CONTENT: UNDEFINED
BITS_PER_PIXEL: 8
SAMPLES_AND_LINES: 5550 7650
HORIZONTAL_DATUM: NAD83
HORIZONTAL_COORDINATE_SYSTEM: UTM
COORDINATE_ZONE: 12
HORIZONTAL_UNITS: METERS
HORIZONTAL_RESOLUTION: 1.00000
SECONDARY_HORIZONTAL_DATUM: NAD27
XY_ORIGIN: 437070.00000 5136360.00000
SECONDARY_XY_ORIGIN: 437131.01100 5136148.86600
NATION: US
STATE: MT
NW_QUAD_CORNER_XY: 437512.71400 5136034.66500
NE_QUAD_CORNER_XY: 442319.41500 5135987.21900
SE_QUAD_CORNERY_XY: 442253.64300 5129042.64800
SW_QUAD_CORNER_XY: 437441.46000 5129090.09900
SECONDARY_NW_QUAD_XY: 437510.81400 5135816.46700
SECONDARY_NE_QUAD_XY: 442317.66100 5135769.01900
SECONDARY_SE_QUAD_XY: 442251.88900 5128824.48600
SECONDARY_SW_QUAD_XY: 437439.56000 5128871.93800
RMSE_XY: 3.93000
IMAGE_SOURCE: BLACK AND WHITE FILM
SOURCE_IMAGE_ID: NAPP 9181 217
SOURCE_IMAGE_DATE: 1997 09 09
SOURCE_DEM_DATE: 1980 00 00
AGENCY: WESTERN MAPPING CENTER (WMC)
PRODUCER: ANALYTICAL SURVEYS INC.
PRODUCTION_SYSTEM: ORBIT OR_RECTIFY V.5.2
COMPRESSION: UNDEFINED
STANDARD_VERSION: 1996 12
METADATA_DATE: 2001 08 01
DATA_FILE_SIZE: 42463050
BYTE_COUNT: 5550
