FILENAME: O4611152.NES.1154535.tif
QUADRANGLE_NAME: PARKER
QUADRANT: NE
WEST_LONGITUDE: -111 33 45.00000
EAST_LONGITUDE: -111 30 0.00000
NORTH_LATITUDE: 46 15 0.00000
SOUTH_LATITUDE: 46 11 15.00000
PRODUCTION_DATE: 2001 07 26
RASTER_ORDER: LEFT_RIGHT/TOP_BOTTOM
BAND_ORGANIZATION: SINGLE FILE
BAND_CONTENT: BLACK&WHITE
BAND_CONTENT: UNDEFINED
BAND_CONTENT: UNDEFINED
BITS_PER_PIXEL: 8
SAMPLES_AND_LINES: 5550 7620
HORIZONTAL_DATUM: NAD83
HORIZONTAL_COORDINATE_SYSTEM: UTM
COORDINATE_ZONE: 12
HORIZONTAL_UNITS: METERS
HORIZONTAL_RESOLUTION: 1.00000
SECONDARY_HORIZONTAL_DATUM: NAD27
XY_ORIGIN: 456210.00000 5122290.00000
SECONDARY_XY_ORIGIN: 456270.75100 5122079.26000
NATION: US
STATE: MT
NW_QUAD_CORNER_XY: 456640.93200 5121978.56600
NE_QUAD_CORNER_XY: 461458.60100 5121946.29700
SE_QUAD_CORNERY_XY: 461414.84600 5115001.86200
SW_QUAD_CORNER_XY: 456591.70700 5115034.13400
SECONDARY_NW_QUAD_XY: 456639.61700 5121760.43800
SECONDARY_NE_QUAD_XY: 461457.43200 5121728.16800
SECONDARY_SE_QUAD_XY: 461413.67700 5114783.77300
SECONDARY_SW_QUAD_XY: 456590.39300 5114816.04500
RMSE_XY: 0.79000
IMAGE_SOURCE: BLACK AND WHITE FILM
SOURCE_IMAGE_ID: NAPP 9181 49
SOURCE_IMAGE_DATE: 1997 09 09
SOURCE_IMAGE_ID: NAPP 9181 51
SOURCE_IMAGE_DATE: 1997 09 09
SOURCE_DEM_DATE: 1980 00 00
AGENCY: WESTERN MAPPING CENTER (WMC)
PRODUCER: ANALYTICAL SURVEYS INC.
PRODUCTION_SYSTEM: ORBIT OR_RECTIFY V.5.2
COMPRESSION: UNDEFINED
STANDARD_VERSION: 1996 12
METADATA_DATE: 2001 07 27
DATA_FILE_SIZE: 42296550
BYTE_COUNT: 5550
